BEGIN:VCALENDAR
VERSION:2.0
PRODID:-//カルッツかわさき（川崎市スポーツ・文化総合センター） - ECPv6.15.17.1//NONSGML v1.0//EN
CALSCALE:GREGORIAN
METHOD:PUBLISH
X-ORIGINAL-URL:https://culttz.city.kawasaki.jp
X-WR-CALDESC:カルッツかわさき（川崎市スポーツ・文化総合センター） のイベント
REFRESH-INTERVAL;VALUE=DURATION:PT1H
X-Robots-Tag:noindex
X-PUBLISHED-TTL:PT1H
BEGIN:VTIMEZONE
TZID:Asia/Tokyo
BEGIN:STANDARD
TZOFFSETFROM:+0900
TZOFFSETTO:+0900
TZNAME:JST
DTSTART:20240101T000000
END:STANDARD
END:VTIMEZONE
BEGIN:VEVENT
DTSTART;VALUE=DATE:20250429
DTEND;VALUE=DATE:20250430
DTSTAMP:20260422T175504
CREATED:20250315T043232Z
LAST-MODIFIED:20250315T043423Z
UID:39101-1745884800-1745971199@culttz.city.kawasaki.jp
SUMMARY:神奈川学園中学・高等学校女声合唱団 第３１回 定期演奏会
DESCRIPTION:15:00 開場\n15:30 開演 \n\nhttp://kanagawakenren.la.coocan.jp/concertguide_2025.4.29_flyer_2025.2.13.pdf
URL:https://culttz.city.kawasaki.jp/event/%e7%a5%9e%e5%a5%88%e5%b7%9d%e5%ad%a6%e5%9c%92%e4%b8%ad%e5%ad%a6%e3%83%bb%e9%ab%98%e7%ad%89%e5%ad%a6%e6%a0%a1%e5%a5%b3%e5%a3%b0%e5%90%88%e5%94%b1%e5%9b%a3-%e7%ac%ac%ef%bc%93%ef%bc%91%e5%9b%9e-%e5%ae%9a/
LOCATION:ホール
CATEGORIES:ホール
END:VEVENT
END:VCALENDAR