BEGIN:VCALENDAR
VERSION:2.0
PRODID:-//カルッツかわさき（川崎市スポーツ・文化総合センター） - ECPv6.15.17.1//NONSGML v1.0//EN
CALSCALE:GREGORIAN
METHOD:PUBLISH
X-ORIGINAL-URL:https://culttz.city.kawasaki.jp
X-WR-CALDESC:カルッツかわさき（川崎市スポーツ・文化総合センター） のイベント
REFRESH-INTERVAL;VALUE=DURATION:PT1H
X-Robots-Tag:noindex
X-PUBLISHED-TTL:PT1H
BEGIN:VTIMEZONE
TZID:Asia/Tokyo
BEGIN:STANDARD
TZOFFSETFROM:+0900
TZOFFSETTO:+0900
TZNAME:JST
DTSTART:20240101T000000
END:STANDARD
END:VTIMEZONE
BEGIN:VEVENT
DTSTART;VALUE=DATE:20250305
DTEND;VALUE=DATE:20250306
DTSTAMP:20260422T191645
CREATED:20250122T065854Z
LAST-MODIFIED:20250122T065854Z
UID:37953-1741132800-1741219199@culttz.city.kawasaki.jp
SUMMARY:カルッツかわさき　レクチャーコンサート　 魂の救済としての音楽　～音楽はいかにして人を救ってきたか～
DESCRIPTION:開場/13:15　開講/14:00 \nカルッツかわさき　レクチャーコンサート　魂の救済としての音楽　～音楽はいかにして人を救ってきたか～
URL:https://culttz.city.kawasaki.jp/event/%e3%82%ab%e3%83%ab%e3%83%83%e3%83%84%e3%81%8b%e3%82%8f%e3%81%95%e3%81%8d%e3%80%80%e3%83%ac%e3%82%af%e3%83%81%e3%83%a3%e3%83%bc%e3%82%b3%e3%83%b3%e3%82%b5%e3%83%bc%e3%83%88%e3%80%80-%e9%ad%82%e3%81%ae/
LOCATION:ホール
CATEGORIES:ホール
END:VEVENT
BEGIN:VEVENT
DTSTART;VALUE=DATE:20250312
DTEND;VALUE=DATE:20250313
DTSTAMP:20260422T191645
CREATED:20241125T001220Z
LAST-MODIFIED:20241125T001220Z
UID:36981-1741737600-1741823999@culttz.city.kawasaki.jp
SUMMARY:レッツ・プレイ・スタインウェイ
DESCRIPTION:レッツ・プレイ・スタインウェイ開催スケジュール
URL:https://culttz.city.kawasaki.jp/event/%e3%83%ac%e3%83%83%e3%83%84%e3%83%bb%e3%83%97%e3%83%ac%e3%82%a4%e3%83%bb%e3%82%b9%e3%82%bf%e3%82%a4%e3%83%b3%e3%82%a6%e3%82%a7%e3%82%a4-42/
LOCATION:ホール
CATEGORIES:ホール
END:VEVENT
BEGIN:VEVENT
DTSTART;VALUE=DATE:20250319
DTEND;VALUE=DATE:20250320
DTSTAMP:20260422T191645
CREATED:20250315T041642Z
LAST-MODIFIED:20250315T041642Z
UID:39099-1742342400-1742428799@culttz.city.kawasaki.jp
SUMMARY:川崎市立橘高等学校　吹奏楽部　第55回定期演奏会
DESCRIPTION:開場/17：30 開演/18：00 \nhttps://x.com/Deep_incredible \nhttps://x.com/Deep_incredible/status/1879877624077668790\nhttps://x.com/Deep_incredible/status/1890614324705517608 \n 
URL:https://culttz.city.kawasaki.jp/event/%e5%b7%9d%e5%b4%8e%e5%b8%82%e7%ab%8b%e6%a9%98%e9%ab%98%e7%ad%89%e5%ad%a6%e6%a0%a1%e3%80%80%e5%90%b9%e5%a5%8f%e6%a5%bd%e9%83%a8%e3%80%80%e7%ac%ac55%e5%9b%9e%e5%ae%9a%e6%9c%9f%e6%bc%94%e5%a5%8f%e4%bc%9a/
LOCATION:ホール
CATEGORIES:ホール
END:VEVENT
BEGIN:VEVENT
DTSTART;VALUE=DATE:20250327
DTEND;VALUE=DATE:20250328
DTSTAMP:20260422T191645
CREATED:20250301T034156Z
LAST-MODIFIED:20250301T034156Z
UID:38853-1743033600-1743119999@culttz.city.kawasaki.jp
SUMMARY:桐光学園中学校・高等学校吹奏楽部第40回定期演奏会
DESCRIPTION:13時45分開場　14時30分開演 \nhttp://www.toko.ed.jp/high/campuslife/club/culture/suisougaku.html
URL:https://culttz.city.kawasaki.jp/event/%e6%a1%90%e5%85%89%e5%ad%a6%e5%9c%92%e4%b8%ad%e5%ad%a6%e6%a0%a1%e3%83%bb%e9%ab%98%e7%ad%89%e5%ad%a6%e6%a0%a1%e5%90%b9%e5%a5%8f%e6%a5%bd%e9%83%a8%e7%ac%ac40%e5%9b%9e%e5%ae%9a%e6%9c%9f%e6%bc%94%e5%a5%8f/
LOCATION:ホール
CATEGORIES:ホール
END:VEVENT
BEGIN:VEVENT
DTSTART;VALUE=DATE:20250329
DTEND;VALUE=DATE:20250330
DTSTAMP:20260422T191645
CREATED:20250122T070148Z
LAST-MODIFIED:20250122T070148Z
UID:37955-1743206400-1743292799@culttz.city.kawasaki.jp
SUMMARY:カルッツフェスティバル2025
DESCRIPTION:カルチャー教室体験会など(会議室エリアイベント) 10:00～18:00 \nダンスエキシビション\n［入場料］1\,000円（全席自由）　［会場］ホール\n［時間］開演 15：30（予定） \nカルッツフェスティバル2025
URL:https://culttz.city.kawasaki.jp/event/%e3%82%ab%e3%83%ab%e3%83%83%e3%83%84%e3%83%95%e3%82%a7%e3%82%b9%e3%83%86%e3%82%a3%e3%83%90%e3%83%ab2025/
LOCATION:ホール
CATEGORIES:ホール
END:VEVENT
END:VCALENDAR