BEGIN:VCALENDAR
VERSION:2.0
PRODID:-//カルッツかわさき（川崎市スポーツ・文化総合センター） - ECPv6.15.17.1//NONSGML v1.0//EN
CALSCALE:GREGORIAN
METHOD:PUBLISH
X-WR-CALNAME:カルッツかわさき（川崎市スポーツ・文化総合センター）
X-ORIGINAL-URL:https://culttz.city.kawasaki.jp
X-WR-CALDESC:カルッツかわさき（川崎市スポーツ・文化総合センター） のイベント
REFRESH-INTERVAL;VALUE=DURATION:PT1H
X-Robots-Tag:noindex
X-PUBLISHED-TTL:PT1H
BEGIN:VTIMEZONE
TZID:Asia/Tokyo
BEGIN:STANDARD
TZOFFSETFROM:+0900
TZOFFSETTO:+0900
TZNAME:JST
DTSTART:20240101T000000
END:STANDARD
END:VTIMEZONE
BEGIN:VEVENT
DTSTART;VALUE=DATE:20250201
DTEND;VALUE=DATE:20250202
DTSTAMP:20260422T203824
CREATED:20250123T111239Z
LAST-MODIFIED:20250123T111327Z
UID:38021-1738368000-1738454399@culttz.city.kawasaki.jp
SUMMARY:第35回コーラルフェストかわさき（2日目）
DESCRIPTION:<Bブロック>　開場/9:30　開演/10:00　終演予定/11:50 \n<Cブロック>　　　　　　  開演/12:30　終演予定/17:20 \n●出演●　市内で活動する合唱団：33団体（2日目） \n入場無料 \nhttps://kawasakichorus.wixsite.com/home/choralfest
URL:https://culttz.city.kawasaki.jp/event/%e7%ac%ac35%e5%9b%9e%e3%82%b3%e3%83%bc%e3%83%a9%e3%83%ab%e3%83%95%e3%82%a7%e3%82%b9%e3%83%88%e3%81%8b%e3%82%8f%e3%81%95%e3%81%8d%ef%bc%882%e6%97%a5%e7%9b%ae%ef%bc%89/
LOCATION:ホール
END:VEVENT
BEGIN:VEVENT
DTSTART;VALUE=DATE:20250202
DTEND;VALUE=DATE:20250203
DTSTAMP:20260422T203824
CREATED:20250123T111744Z
LAST-MODIFIED:20250123T111744Z
UID:38026-1738454400-1738540799@culttz.city.kawasaki.jp
SUMMARY:第35回コーラルフェストかわさき（3日目）
DESCRIPTION:<Dブロック>　開場/9:45　開演/10:15　終演予定/13:30 \n<Eブロック>　　　　　　  開演/14:30　終演予定/17:40 \n●出演●　市内で活動する合唱団：32団体（3日目） \n入場無料 \nhttps://kawasakichorus.wixsite.com/home/choralfest
URL:https://culttz.city.kawasaki.jp/event/%e7%ac%ac35%e5%9b%9e%e3%82%b3%e3%83%bc%e3%83%a9%e3%83%ab%e3%83%95%e3%82%a7%e3%82%b9%e3%83%88%e3%81%8b%e3%82%8f%e3%81%95%e3%81%8d%ef%bc%883%e6%97%a5%e7%9b%ae%ef%bc%89/
LOCATION:ホール
END:VEVENT
BEGIN:VEVENT
DTSTART;VALUE=DATE:20250203
DTEND;VALUE=DATE:20250204
DTSTAMP:20260422T203824
CREATED:20241029T010850Z
LAST-MODIFIED:20241029T011015Z
UID:35825-1738540800-1738627199@culttz.city.kawasaki.jp
SUMMARY:◆ウィズ・ミューズシリーズ◆　第43回　川崎麻衣子メゾ・ソプラノ リサイタル
DESCRIPTION:開場/13:00　開演/13:30 \n◆ウィズ・ミューズシリーズ◆　第43回　川崎麻衣子メゾ・ソプラノ リサイタル
URL:https://culttz.city.kawasaki.jp/event/%e2%97%86%e3%82%a6%e3%82%a3%e3%82%ba%e3%83%bb%e3%83%9f%e3%83%a5%e3%83%bc%e3%82%ba%e3%82%b7%e3%83%aa%e3%83%bc%e3%82%ba%e2%97%86%e3%80%80%e7%ac%ac43%e5%9b%9e%e3%80%80%e5%b7%9d%e5%b4%8e%e9%ba%bb%e8%a1%a3/
LOCATION:アクトスタジオ
CATEGORIES:アクトスタジオ
END:VEVENT
BEGIN:VEVENT
DTSTART;VALUE=DATE:20250203
DTEND;VALUE=DATE:20250204
DTSTAMP:20260422T203824
CREATED:20241125T001118Z
LAST-MODIFIED:20241125T001118Z
UID:36979-1738540800-1738627199@culttz.city.kawasaki.jp
SUMMARY:レッツ・プレイ・スタインウェイ
DESCRIPTION:レッツ・プレイ・スタインウェイ開催スケジュール
URL:https://culttz.city.kawasaki.jp/event/%e3%83%ac%e3%83%83%e3%83%84%e3%83%bb%e3%83%97%e3%83%ac%e3%82%a4%e3%83%bb%e3%82%b9%e3%82%bf%e3%82%a4%e3%83%b3%e3%82%a6%e3%82%a7%e3%82%a4-41/
LOCATION:ホール
CATEGORIES:ホール
END:VEVENT
BEGIN:VEVENT
DTSTART;VALUE=DATE:20250217
DTEND;VALUE=DATE:20250219
DTSTAMP:20260422T203824
CREATED:20250131T093410Z
LAST-MODIFIED:20250131T093410Z
UID:38189-1739750400-1739923199@culttz.city.kawasaki.jp
SUMMARY:【臨時開催】レッツ・プレイ・スタインウェイ
DESCRIPTION:【臨時開催】レッツ・プレイ・スタインウェイ
URL:https://culttz.city.kawasaki.jp/event/%e3%80%90%e8%87%a8%e6%99%82%e9%96%8b%e5%82%ac%e3%80%91%e3%83%ac%e3%83%83%e3%83%84%e3%83%bb%e3%83%97%e3%83%ac%e3%82%a4%e3%83%bb%e3%82%b9%e3%82%bf%e3%82%a4%e3%83%b3%e3%82%a6%e3%82%a7%e3%82%a4-2/
LOCATION:ホール
CATEGORIES:ホール
END:VEVENT
BEGIN:VEVENT
DTSTART;VALUE=DATE:20250223
DTEND;VALUE=DATE:20250224
DTSTAMP:20260422T203824
CREATED:20250122T064332Z
LAST-MODIFIED:20250122T064332Z
UID:37949-1740268800-1740355199@culttz.city.kawasaki.jp
SUMMARY:第７回かわさき新人声楽コンクール(本選会)
DESCRIPTION:開場/12:30　開始/13:00 \n第７回かわさき新人声楽コンクール(本選会)
URL:https://culttz.city.kawasaki.jp/event/%e7%ac%ac%ef%bc%97%e5%9b%9e%e3%81%8b%e3%82%8f%e3%81%95%e3%81%8d%e6%96%b0%e4%ba%ba%e5%a3%b0%e6%a5%bd%e3%82%b3%e3%83%b3%e3%82%af%e3%83%bc%e3%83%ab%e6%9c%ac%e9%81%b8%e4%bc%9a/
LOCATION:ホール
CATEGORIES:ホール
END:VEVENT
BEGIN:VEVENT
DTSTART;VALUE=DATE:20250224
DTEND;VALUE=DATE:20250225
DTSTAMP:20260422T203824
CREATED:20250122T065705Z
LAST-MODIFIED:20250122T070314Z
UID:37951-1740355200-1740441599@culttz.city.kawasaki.jp
SUMMARY:高橋李依 キャラクターソングライブ Season2「Talk 餡 call」
DESCRIPTION:【昼公演】開場/15:00 開演/15:45\n【夜公演】開場/18:45 開演/19:30 \n高橋李依 キャラクターソングライブ Season2「Talk 餡 call」
URL:https://culttz.city.kawasaki.jp/event/%e9%ab%98%e6%a9%8b%e6%9d%8e%e4%be%9d-%e3%82%ad%e3%83%a3%e3%83%a9%e3%82%af%e3%82%bf%e3%83%bc%e3%82%bd%e3%83%b3%e3%82%b0%e3%83%a9%e3%82%a4%e3%83%96-season2%e3%80%8ctalk-%e9%a4%a1-call%e3%80%8d/
LOCATION:ホール
CATEGORIES:ホール
END:VEVENT
BEGIN:VEVENT
DTSTART;VALUE=DATE:20250227
DTEND;VALUE=DATE:20250228
DTSTAMP:20260422T203824
CREATED:20250114T051155Z
LAST-MODIFIED:20250114T051528Z
UID:37830-1740614400-1740700799@culttz.city.kawasaki.jp
SUMMARY:民音タンゴ・シリーズ〈54〉　ファビオ・ハーゲル・セステート
DESCRIPTION:開場/18:00　開演/18:30 \nお問い合わせ：MIN-ONインフォメーションセンター　TEL：03(3226)9999\n平日：10:00～16:00（営業時間は変更となる場合がございます） \n民音タンゴ・シリーズ〈54〉ファビオ・ハーゲル・セステート| 民主音楽協会（民音） \n※カルッツかわさきでのチケット取り扱いはございません。
URL:https://culttz.city.kawasaki.jp/event/%e6%b0%91%e9%9f%b3%e3%82%bf%e3%83%b3%e3%82%b4%e3%83%bb%e3%82%b7%e3%83%aa%e3%83%bc%e3%82%ba%e3%80%8854%e3%80%89%e3%80%80%e3%83%95%e3%82%a1%e3%83%93%e3%82%aa%e3%83%bb%e3%83%8f%e3%83%bc%e3%82%b2%e3%83%ab/
LOCATION:ホール
END:VEVENT
END:VCALENDAR