BEGIN:VCALENDAR
VERSION:2.0
PRODID:-//カルッツかわさき（川崎市スポーツ・文化総合センター） - ECPv6.15.17.1//NONSGML v1.0//EN
CALSCALE:GREGORIAN
METHOD:PUBLISH
X-ORIGINAL-URL:https://culttz.city.kawasaki.jp
X-WR-CALDESC:カルッツかわさき（川崎市スポーツ・文化総合センター） のイベント
REFRESH-INTERVAL;VALUE=DURATION:PT1H
X-Robots-Tag:noindex
X-PUBLISHED-TTL:PT1H
BEGIN:VTIMEZONE
TZID:Asia/Tokyo
BEGIN:STANDARD
TZOFFSETFROM:+0900
TZOFFSETTO:+0900
TZNAME:JST
DTSTART:20240101T000000
END:STANDARD
END:VTIMEZONE
BEGIN:VEVENT
DTSTART;VALUE=DATE:20250111
DTEND;VALUE=DATE:20250112
DTSTAMP:20260422T221053
CREATED:20241201T080303Z
LAST-MODIFIED:20241201T080758Z
UID:37173-1736553600-1736639999@culttz.city.kawasaki.jp
SUMMARY:リード百愉会第2弾演奏会　アルフレッド・リードとフィリップ・スパークを愉しむコンサート
DESCRIPTION:14:30 開場 / 15:00 開演 \n入場無料／全席自由 \nhttps://sites.google.com/view/alfredreed2/
URL:https://culttz.city.kawasaki.jp/event/%e3%83%aa%e3%83%bc%e3%83%89%e7%99%be%e6%84%89%e4%bc%9a%e7%ac%ac2%e5%bc%be%e6%bc%94%e5%a5%8f%e4%bc%9a%e3%80%80%e3%82%a2%e3%83%ab%e3%83%95%e3%83%ac%e3%83%83%e3%83%89%e3%83%bb%e3%83%aa%e3%83%bc%e3%83%89/
LOCATION:ホール
CATEGORIES:ホール
END:VEVENT
BEGIN:VEVENT
DTSTART;VALUE=DATE:20250112
DTEND;VALUE=DATE:20250113
DTSTAMP:20260422T221053
CREATED:20241220T032324Z
LAST-MODIFIED:20241220T032324Z
UID:37442-1736640000-1736726399@culttz.city.kawasaki.jp
SUMMARY:第10回全日本ブラスシンフォニーコンクール　本選大会
DESCRIPTION:中学校の部：開場10：30／開演11：05\n高等学校の部：開場10：30／開演14：05 \nhttps://ajbsc.jp/10th-ajbsc-honsen/
URL:https://culttz.city.kawasaki.jp/event/%e7%ac%ac10%e5%9b%9e%e5%85%a8%e6%97%a5%e6%9c%ac%e3%83%96%e3%83%a9%e3%82%b9%e3%82%b7%e3%83%b3%e3%83%95%e3%82%a9%e3%83%8b%e3%83%bc%e3%82%b3%e3%83%b3%e3%82%af%e3%83%bc%e3%83%ab%e3%80%80%e6%9c%ac%e9%81%b8/
LOCATION:ホール
CATEGORIES:ホール
END:VEVENT
BEGIN:VEVENT
DTSTART;VALUE=DATE:20250119
DTEND;VALUE=DATE:20250120
DTSTAMP:20260422T221053
CREATED:20241201T015954Z
LAST-MODIFIED:20241201T020023Z
UID:37161-1737244800-1737331199@culttz.city.kawasaki.jp
SUMMARY:ヴィルトーゾフィルハーモニー管弦楽団　第58回定期演奏会
DESCRIPTION:13:00 開場 / 13:30 開演 \nhttps://www.facebook.com/photo/?fbid=576103404812091&set=pb.100072373081982.-2207520000&locale=ja_JP
URL:https://culttz.city.kawasaki.jp/event/37161/
LOCATION:ホール
CATEGORIES:ホール
END:VEVENT
BEGIN:VEVENT
DTSTART;VALUE=DATE:20250122
DTEND;VALUE=DATE:20250123
DTSTAMP:20260422T221053
CREATED:20241125T000919Z
LAST-MODIFIED:20241125T000919Z
UID:36977-1737504000-1737590399@culttz.city.kawasaki.jp
SUMMARY:レッツ・プレイ・スタインウェイ
DESCRIPTION:レッツ・プレイ・スタインウェイ開催スケジュール
URL:https://culttz.city.kawasaki.jp/event/%e3%83%ac%e3%83%83%e3%83%84%e3%83%bb%e3%83%97%e3%83%ac%e3%82%a4%e3%83%bb%e3%82%b9%e3%82%bf%e3%82%a4%e3%83%b3%e3%82%a6%e3%82%a7%e3%82%a4-40/
LOCATION:ホール
CATEGORIES:ホール
END:VEVENT
BEGIN:VEVENT
DTSTART;VALUE=DATE:20250126
DTEND;VALUE=DATE:20250127
DTSTAMP:20260422T221053
CREATED:20250110T093418Z
LAST-MODIFIED:20250110T093418Z
UID:37783-1737849600-1737935999@culttz.city.kawasaki.jp
SUMMARY:神奈川県警察音楽隊 第87回定期演奏会
DESCRIPTION:開場：12時30分\n開演：13時30分 \nhttps://www.police.pref.kanagawa.jp/about_kpp/kakubu/mesa8050.html#teiki
URL:https://culttz.city.kawasaki.jp/event/%e7%a5%9e%e5%a5%88%e5%b7%9d%e7%9c%8c%e8%ad%a6%e5%af%9f%e9%9f%b3%e6%a5%bd%e9%9a%8a-%e7%ac%ac87%e5%9b%9e%e5%ae%9a%e6%9c%9f%e6%bc%94%e5%a5%8f%e4%bc%9a/
LOCATION:ホール
CATEGORIES:ホール
END:VEVENT
BEGIN:VEVENT
DTSTART;VALUE=DATE:20250127
DTEND;VALUE=DATE:20250128
DTSTAMP:20260422T221053
CREATED:20250122T064149Z
LAST-MODIFIED:20250122T064149Z
UID:37947-1737936000-1738022399@culttz.city.kawasaki.jp
SUMMARY:ゲッターズ飯田トークライブツアー2025
DESCRIPTION:開場/18:00　開演/19:00 \nゲッターズ飯田トークライブツアー2025
URL:https://culttz.city.kawasaki.jp/event/%e3%82%b2%e3%83%83%e3%82%bf%e3%83%bc%e3%82%ba%e9%a3%af%e7%94%b0%e3%83%88%e3%83%bc%e3%82%af%e3%83%a9%e3%82%a4%e3%83%96%e3%83%84%e3%82%a2%e3%83%bc2025/
LOCATION:ホール
CATEGORIES:ホール
END:VEVENT
BEGIN:VEVENT
DTSTART;VALUE=DATE:20250130
DTEND;VALUE=DATE:20250131
DTSTAMP:20260422T221053
CREATED:20250107T102500Z
LAST-MODIFIED:20250130T105411Z
UID:37740-1738195200-1738281599@culttz.city.kawasaki.jp
SUMMARY:学校施設有効活用事業　利用者向け説明会
DESCRIPTION:開場/18:30　開演/19:00 \n主催：川崎市教育委員会事務局
URL:https://culttz.city.kawasaki.jp/event/%e5%ad%a6%e6%a0%a1%e6%96%bd%e8%a8%ad%e6%9c%89%e5%8a%b9%e6%b4%bb%e7%94%a8%e4%ba%8b%e6%a5%ad%e3%80%80%e5%88%a9%e7%94%a8%e8%80%85%e5%90%91%e3%81%91%e8%aa%ac%e6%98%8e%e4%bc%9a/
LOCATION:ホール
CATEGORIES:ホール
END:VEVENT
BEGIN:VEVENT
DTSTART;VALUE=DATE:20250131
DTEND;VALUE=DATE:20250201
DTSTAMP:20260422T221053
CREATED:20250123T110944Z
LAST-MODIFIED:20250123T111349Z
UID:38018-1738281600-1738367999@culttz.city.kawasaki.jp
SUMMARY:第35回コーラルフェストかわさき（1日目）
DESCRIPTION:<Aブロック>　開場/14:45　開演/15:00　終演予定/16:30 \n●出演●　市内で活動する合唱団：8団体（1日目） \n入場無料 \nhttps://kawasakichorus.wixsite.com/home/choralfest
URL:https://culttz.city.kawasaki.jp/event/%e7%ac%ac35%e5%9b%9e%e3%82%b3%e3%83%bc%e3%83%a9%e3%83%ab%e3%83%95%e3%82%a7%e3%82%b9%e3%83%88%e3%81%8b%e3%82%8f%e3%81%95%e3%81%8d%ef%bc%881%e6%97%a5%e7%9b%ae%ef%bc%89/
LOCATION:ホール
END:VEVENT
END:VCALENDAR