BEGIN:VCALENDAR
VERSION:2.0
PRODID:-//カルッツかわさき（川崎市スポーツ・文化総合センター） - ECPv6.15.17.1//NONSGML v1.0//EN
CALSCALE:GREGORIAN
METHOD:PUBLISH
X-WR-CALNAME:カルッツかわさき（川崎市スポーツ・文化総合センター）
X-ORIGINAL-URL:https://culttz.city.kawasaki.jp
X-WR-CALDESC:カルッツかわさき（川崎市スポーツ・文化総合センター） のイベント
REFRESH-INTERVAL;VALUE=DURATION:PT1H
X-Robots-Tag:noindex
X-PUBLISHED-TTL:PT1H
BEGIN:VTIMEZONE
TZID:Asia/Tokyo
BEGIN:STANDARD
TZOFFSETFROM:+0900
TZOFFSETTO:+0900
TZNAME:JST
DTSTART:20230101T000000
END:STANDARD
END:VTIMEZONE
BEGIN:VEVENT
DTSTART;VALUE=DATE:20241102
DTEND;VALUE=DATE:20241103
DTSTAMP:20260423T012946
CREATED:20241029T010150Z
LAST-MODIFIED:20241029T010150Z
UID:35819-1730505600-1730591999@culttz.city.kawasaki.jp
SUMMARY:ClariS AUTUMN TOUR 2024 ~Via Fortuna~
DESCRIPTION:開場/17:00　開演/18:00 \n問：キョードー横浜　045-671-9911 \n※カルッツかわさきでのチケット取り扱いはございません。 \nLIVE | ClariS オフィシャルサイト
URL:https://culttz.city.kawasaki.jp/event/claris-autumn-tour-2024-via-fortuna/
LOCATION:ホール
CATEGORIES:ホール
END:VEVENT
BEGIN:VEVENT
DTSTART;VALUE=DATE:20241103
DTEND;VALUE=DATE:20241104
DTSTAMP:20260423T012946
CREATED:20241029T010259Z
LAST-MODIFIED:20241029T010259Z
UID:35822-1730592000-1730678399@culttz.city.kawasaki.jp
SUMMARY:ClariS AUTUMN TOUR 2024 ~Via Fortuna~
DESCRIPTION:開場/15:00　開演/16:00 \n問：キョードー横浜　045-671-9911 \n※カルッツかわさきでのチケット取り扱いはございません。 \nLIVE | ClariS オフィシャルサイト
URL:https://culttz.city.kawasaki.jp/event/claris-autumn-tour-2024-via-fortuna-2/
LOCATION:ホール
CATEGORIES:ホール
END:VEVENT
BEGIN:VEVENT
DTSTART;VALUE=DATE:20241110
DTEND;VALUE=DATE:20241111
DTSTAMP:20260423T012946
CREATED:20240926T062309Z
LAST-MODIFIED:20241108T105915Z
UID:35120-1731196800-1731283199@culttz.city.kawasaki.jp
SUMMARY:わんだふるぷりきゅあ！　ドリームステージ♪
DESCRIPTION:①開場/10:00　 開演/10:30\n➁開場/13:30  開演/14:00 \nプリキュアドリームステージ♪上演委員会（劇団飛行船内）\n03-4500-6810（10:30～17:00／土日祝休） \n2024年11月10日(日)[神奈川]カルッツかわさき – わんだふるぷりきゅあ！ ドリームステージ♪ (hikosen.co.jp) \n※カルッツかわさきでのチケット取り扱いはございません。
URL:https://culttz.city.kawasaki.jp/event/%e3%82%8f%e3%82%93%e3%81%a0%e3%81%b5%e3%82%8b%e3%81%b7%e3%82%8a%e3%81%8d%e3%82%85%e3%81%82%e3%80%80%e3%83%89%e3%83%aa%e3%83%bc%e3%83%a0%e3%82%b9%e3%83%86%e3%83%bc%e3%82%b8%e2%99%aa/
LOCATION:ホール
CATEGORIES:ホール
END:VEVENT
BEGIN:VEVENT
DTSTART;VALUE=DATE:20241112
DTEND;VALUE=DATE:20241113
DTSTAMP:20260423T012946
CREATED:20241001T070547Z
LAST-MODIFIED:20241001T070547Z
UID:35210-1731369600-1731455999@culttz.city.kawasaki.jp
SUMMARY:シマロン ジャパン・ツアー2024
DESCRIPTION:開場/18:00　開演/18:30 \nお問い合わせ：MIN-ONインフォメーションセンター　TEL：03(3226)9999\n平日：10:00～16:00（営業時間は変更となる場合がございます） \nシマロン ジャパン・ツアー2024｜公演案内｜一般財団法人 民主音楽協会 (min-on.or.jp) \n※カルッツかわさきでのチケット取り扱いはございません。
URL:https://culttz.city.kawasaki.jp/event/%e3%82%b7%e3%83%9e%e3%83%ad%e3%83%b3-%e3%82%b8%e3%83%a3%e3%83%91%e3%83%b3%e3%83%bb%e3%83%84%e3%82%a2%e3%83%bc2024/
LOCATION:ホール
CATEGORIES:ホール
END:VEVENT
BEGIN:VEVENT
DTSTART;VALUE=DATE:20241116
DTEND;VALUE=DATE:20241118
DTSTAMP:20260423T012946
CREATED:20241115T052405Z
LAST-MODIFIED:20241115T054028Z
UID:36727-1731715200-1731887999@culttz.city.kawasaki.jp
SUMMARY:令和6年度　第25回　川崎アンサンブルコンテスト
DESCRIPTION:11月16日(土)高校生の部・中学生の部(一部)　9:30開場　10:00開演\n11月17日(日)中学生の部　9:30開場　10:00開演\n川崎市スポーツ・文化総合センター(カルッツかわさき）ホール\n入場料　各日とも1\,000円　\n※当日券：各日とも400枚(予定)　開場時間にあわせて販売 \nhttp://hosei-h2band.sun.bindcloud.jp/kawasuiren/pg203317.html
URL:https://culttz.city.kawasaki.jp/event/%e4%bb%a4%e5%92%8c6%e5%b9%b4%e5%ba%a6%e3%80%80%e7%ac%ac25%e5%9b%9e%e3%80%80%e5%b7%9d%e5%b4%8e%e3%82%a2%e3%83%b3%e3%82%b5%e3%83%b3%e3%83%96%e3%83%ab%e3%82%b3%e3%83%b3%e3%83%86%e3%82%b9%e3%83%88/
LOCATION:ホール
CATEGORIES:ホール
END:VEVENT
BEGIN:VEVENT
DTSTART;VALUE=DATE:20241119
DTEND;VALUE=DATE:20241120
DTSTAMP:20260423T012946
CREATED:20241029T005508Z
LAST-MODIFIED:20241029T005508Z
UID:35816-1731974400-1732060799@culttz.city.kawasaki.jp
SUMMARY:第19回米海軍第7艦隊音楽隊コンサート
DESCRIPTION:開場/17:00　開演/18:00　（終演予定20:30） \n入場料　無料（事前申込制）※申込は終了しております \nお問合せ：公益財団法人　川崎南法人会事務局　044-276-8731
URL:https://culttz.city.kawasaki.jp/event/%e7%ac%ac19%e5%9b%9e%e7%b1%b3%e6%b5%b7%e8%bb%8d%e7%ac%ac7%e8%89%a6%e9%9a%8a%e9%9f%b3%e6%a5%bd%e9%9a%8a%e3%82%b3%e3%83%b3%e3%82%b5%e3%83%bc%e3%83%88/
LOCATION:ホール
CATEGORIES:ホール
END:VEVENT
BEGIN:VEVENT
DTSTART;VALUE=DATE:20241125
DTEND;VALUE=DATE:20241126
DTSTAMP:20260423T012946
CREATED:20241027T000038Z
LAST-MODIFIED:20241027T000354Z
UID:35786-1732492800-1732579199@culttz.city.kawasaki.jp
SUMMARY:レッツ・プレイ・スタインウェイ
DESCRIPTION:レッツ・プレイ・スタインウェイ開催スケジュール
URL:https://culttz.city.kawasaki.jp/event/35786/
LOCATION:ホール
CATEGORIES:ホール
END:VEVENT
BEGIN:VEVENT
DTSTART;VALUE=DATE:20241127
DTEND;VALUE=DATE:20241128
DTSTAMP:20260423T012946
CREATED:20241027T001143Z
LAST-MODIFIED:20241027T001558Z
UID:35793-1732665600-1732751999@culttz.city.kawasaki.jp
SUMMARY:カルッツかわさきレクチャープログラム 2時間で学ぶ作曲家2024 ～ドヴォルジャーク没後120周年～（第１回）
DESCRIPTION:【第1回】 「チェコ」の作曲家としての時代 \n開場/13:15　開始/14:00 \nカルッツかわさきレクチャープログラム 2時間で学ぶ作曲家2024 ～ドヴォルジャーク没後120周年～（全２回）※ミニコンサート付き
URL:https://culttz.city.kawasaki.jp/event/%e3%82%ab%e3%83%ab%e3%83%83%e3%83%84%e3%81%8b%e3%82%8f%e3%81%95%e3%81%8d%e3%83%ac%e3%82%af%e3%83%81%e3%83%a3%e3%83%bc%e3%83%97%e3%83%ad%e3%82%b0%e3%83%a9%e3%83%a0-2%e6%99%82%e9%96%93%e3%81%a7%e5%ad%a6/
LOCATION:アクトスタジオ
CATEGORIES:アクトスタジオ
END:VEVENT
BEGIN:VEVENT
DTSTART;VALUE=DATE:20241129
DTEND;VALUE=DATE:20241130
DTSTAMP:20260423T012946
CREATED:20240921T045431Z
LAST-MODIFIED:20241115T081339Z
UID:35032-1732838400-1732924799@culttz.city.kawasaki.jp
SUMMARY:ばってん少女隊　瀬田さくら卒業公演　-桜花爛漫-
DESCRIPTION:開場/17:30　開演/18:30 \n(問)H.I.P. 03-3475-9999 \n瀬田さくら卒業公演 in 神奈川 | ばってん少女隊 オフィシャルサイト (battengirls.com) \n※カルッツかわさきでのチケット取り扱いはございません。
URL:https://culttz.city.kawasaki.jp/event/%e3%81%b0%e3%81%a3%e3%81%a6%e3%82%93%e5%b0%91%e5%a5%b3%e9%9a%8a-%e7%80%ac%e7%94%b0%e3%81%95%e3%81%8f%e3%82%89%e5%8d%92%e6%a5%ad%e5%85%ac%e6%bc%94-%ef%bc%88%e3%82%bf%e3%82%a4%e3%83%88%e3%83%ab%e6%9c%aa/
LOCATION:ホール
CATEGORIES:ホール
END:VEVENT
END:VCALENDAR