BEGIN:VCALENDAR
VERSION:2.0
PRODID:-//カルッツかわさき（川崎市スポーツ・文化総合センター） - ECPv6.15.17.1//NONSGML v1.0//EN
CALSCALE:GREGORIAN
METHOD:PUBLISH
X-WR-CALNAME:カルッツかわさき（川崎市スポーツ・文化総合センター）
X-ORIGINAL-URL:https://culttz.city.kawasaki.jp
X-WR-CALDESC:カルッツかわさき（川崎市スポーツ・文化総合センター） のイベント
REFRESH-INTERVAL;VALUE=DURATION:PT1H
X-Robots-Tag:noindex
X-PUBLISHED-TTL:PT1H
BEGIN:VTIMEZONE
TZID:Asia/Tokyo
BEGIN:STANDARD
TZOFFSETFROM:+0900
TZOFFSETTO:+0900
TZNAME:JST
DTSTART:20230101T000000
END:STANDARD
END:VTIMEZONE
BEGIN:VEVENT
DTSTART;VALUE=DATE:20241006
DTEND;VALUE=DATE:20241007
DTSTAMP:20260423T025129
CREATED:20240921T044508Z
LAST-MODIFIED:20241005T233913Z
UID:35027-1728172800-1728259199@culttz.city.kawasaki.jp
SUMMARY:「夜のクラゲは泳げない」スペシャルイベント ”JELEE MEET UP! 2024”
DESCRIPTION:開場/15:00　開演/16:00 \n \n出演：伊藤美来、高橋李依、富田美憂、島袋美由利、上坂すみれ、カノエラナ、ツルシマアンナ、儀武ゆう子(MC)ほか 予定\n \nチケット料金：全席指定 ￥8\,800(税込)\n \n公演に関するお問い合わせ：キョードー横浜　TEL：045-671-9911(平日11:00～15:00）\n \nNEWS｜オリジナルTVアニメーション「夜のクラゲは泳げない」公式サイト (yorukura-anime.com)\n \n \nhttps://www.kyodoyokohama.com/schedule/detail/1687
URL:https://culttz.city.kawasaki.jp/event/%e3%80%8c%e5%a4%9c%e3%81%ae%e3%82%af%e3%83%a9%e3%82%b2%e3%81%af%e6%b3%b3%e3%81%92%e3%81%aa%e3%81%84%e3%80%8d%e3%82%b9%e3%83%9a%e3%82%b7%e3%83%a3%e3%83%ab%e3%82%a4%e3%83%99%e3%83%b3%e3%83%88-j/
LOCATION:ホール
CATEGORIES:ホール
END:VEVENT
BEGIN:VEVENT
DTSTART;VALUE=DATE:20241008
DTEND;VALUE=DATE:20241009
DTSTAMP:20260423T025129
CREATED:20240721T051536Z
LAST-MODIFIED:20240721T051536Z
UID:34226-1728345600-1728431999@culttz.city.kawasaki.jp
SUMMARY:◆ウィズ・ミューズシリーズ◆　第41回　益田英生スウィングトリオ・コンサート
DESCRIPTION:◆ウィズ・ミューズシリーズ◆　第41回　益田英生スウィングトリオ・コンサート
URL:https://culttz.city.kawasaki.jp/event/%e2%97%86%e3%82%a6%e3%82%a3%e3%82%ba%e3%83%bb%e3%83%9f%e3%83%a5%e3%83%bc%e3%82%ba%e3%82%b7%e3%83%aa%e3%83%bc%e3%82%ba%e2%97%86%e3%80%80%e7%ac%ac41%e5%9b%9e%e3%80%80%e7%9b%8a%e7%94%b0%e8%8b%b1%e7%94%9f/
LOCATION:アクトスタジオ
CATEGORIES:アクトスタジオ
END:VEVENT
BEGIN:VEVENT
DTSTART;VALUE=DATE:20241009
DTEND;VALUE=DATE:20241010
DTSTAMP:20260423T025129
CREATED:20240923T094352Z
LAST-MODIFIED:20240923T094352Z
UID:35059-1728432000-1728518399@culttz.city.kawasaki.jp
SUMMARY:レッツ・プレイ・スタインウェイ
DESCRIPTION:レッツ・プレイ・スタインウェイ開催スケジュール
URL:https://culttz.city.kawasaki.jp/event/%e3%83%ac%e3%83%83%e3%83%84%e3%83%bb%e3%83%97%e3%83%ac%e3%82%a4%e3%83%bb%e3%82%b9%e3%82%bf%e3%82%a4%e3%83%b3%e3%82%a6%e3%82%a7%e3%82%a4-38/
LOCATION:ホール
CATEGORIES:ホール
END:VEVENT
BEGIN:VEVENT
DTSTART;VALUE=DATE:20241013
DTEND;VALUE=DATE:20241014
DTSTAMP:20260423T025129
CREATED:20240721T051907Z
LAST-MODIFIED:20240721T051907Z
UID:34228-1728777600-1728863999@culttz.city.kawasaki.jp
SUMMARY:かわさきJAZZ2024 山中千尋 Special Jazz Live
DESCRIPTION:かわさきJAZZ2024 山中千尋 Special Jazz Live　Guest：ユッコ・ミラー
URL:https://culttz.city.kawasaki.jp/event/%e3%81%8b%e3%82%8f%e3%81%95%e3%81%8djazz2024-%e5%b1%b1%e4%b8%ad%e5%8d%83%e5%b0%8b-special-jazz-live/
LOCATION:ホール
CATEGORIES:ホール
END:VEVENT
END:VCALENDAR