BEGIN:VCALENDAR
VERSION:2.0
PRODID:-//カルッツかわさき（川崎市スポーツ・文化総合センター） - ECPv6.15.17.1//NONSGML v1.0//EN
CALSCALE:GREGORIAN
METHOD:PUBLISH
X-ORIGINAL-URL:https://culttz.city.kawasaki.jp
X-WR-CALDESC:カルッツかわさき（川崎市スポーツ・文化総合センター） のイベント
REFRESH-INTERVAL;VALUE=DURATION:PT1H
X-Robots-Tag:noindex
X-PUBLISHED-TTL:PT1H
BEGIN:VTIMEZONE
TZID:Asia/Tokyo
BEGIN:STANDARD
TZOFFSETFROM:+0900
TZOFFSETTO:+0900
TZNAME:JST
DTSTART:20230101T000000
END:STANDARD
END:VTIMEZONE
BEGIN:VEVENT
DTSTART;VALUE=DATE:20240903
DTEND;VALUE=DATE:20240904
DTSTAMP:20260423T042023
CREATED:20240815T030833Z
LAST-MODIFIED:20240815T030833Z
UID:34597-1725321600-1725407999@culttz.city.kawasaki.jp
SUMMARY:よしもとお笑いライブin川崎2024～笑いのビートに心躍らせ～
DESCRIPTION:開場/18:15　開演/19:00 \nよしもとお笑いライブin川崎2024～笑いのビートに心躍らせ～
URL:https://culttz.city.kawasaki.jp/event/%e3%82%88%e3%81%97%e3%82%82%e3%81%a8%e3%81%8a%e7%ac%91%e3%81%84%e3%83%a9%e3%82%a4%e3%83%96in%e5%b7%9d%e5%b4%8e2024%ef%bd%9e%e7%ac%91%e3%81%84%e3%81%ae%e3%83%93%e3%83%bc%e3%83%88%e3%81%ab%e5%bf%83/
CATEGORIES:ホール
END:VEVENT
BEGIN:VEVENT
DTSTART;VALUE=DATE:20240907
DTEND;VALUE=DATE:20240909
DTSTAMP:20260423T042023
CREATED:20240829T034240Z
LAST-MODIFIED:20240829T034240Z
UID:34798-1725667200-1725839999@culttz.city.kawasaki.jp
SUMMARY:川崎区文化協会第三十回文化芸能祭
DESCRIPTION:2024年09月07日（土）\n終日リハーサル日 \n2024年09月08日（日）\n開場/9:30　開演/10:00
URL:https://culttz.city.kawasaki.jp/event/%e5%b7%9d%e5%b4%8e%e5%8c%ba%e6%96%87%e5%8c%96%e5%8d%94%e4%bc%9a%e7%ac%ac%e4%b8%89%e5%8d%81%e5%9b%9e%e6%96%87%e5%8c%96%e8%8a%b8%e8%83%bd%e7%a5%ad/
CATEGORIES:ホール
END:VEVENT
BEGIN:VEVENT
DTSTART;VALUE=DATE:20240910
DTEND;VALUE=DATE:20240911
DTSTAMP:20260423T042023
CREATED:20240619T065542Z
LAST-MODIFIED:20240619T065542Z
UID:33660-1725926400-1726012799@culttz.city.kawasaki.jp
SUMMARY:◆ウィズ・ミューズシリーズ◆　第40回　早川純✖吉田篤　バンドネオンとヴァイオリンの調べ
DESCRIPTION:開場/13:00　開演/13:30 \n◆ウィズ・ミューズシリーズ◆　第40回　早川純✖吉田篤　バンドネオンとヴァイオリンの調べ
URL:https://culttz.city.kawasaki.jp/event/%e2%97%86%e3%82%a6%e3%82%a3%e3%82%ba%e3%83%bb%e3%83%9f%e3%83%a5%e3%83%bc%e3%82%ba%e3%82%b7%e3%83%aa%e3%83%bc%e3%82%ba%e2%97%86%e3%80%80%e7%ac%ac40%e5%9b%9e%e3%80%80%e6%97%a9%e5%b7%9d%e7%b4%94%e2%9c%96/
LOCATION:アクトスタジオ
CATEGORIES:アクトスタジオ
END:VEVENT
BEGIN:VEVENT
DTSTART;VALUE=DATE:20240914
DTEND;VALUE=DATE:20240915
DTSTAMP:20260423T042023
CREATED:20240619T065722Z
LAST-MODIFIED:20240619T065722Z
UID:33662-1726272000-1726358399@culttz.city.kawasaki.jp
SUMMARY:カルッツ落語　柳家喬太郎　柳家三三　三遊亭萬橘　三人会
DESCRIPTION:開場/12:45　開演/13:30 \nカルッツ落語　柳家喬太郎　柳家三三　三遊亭萬橘　三人会
URL:https://culttz.city.kawasaki.jp/event/%e3%82%ab%e3%83%ab%e3%83%83%e3%83%84%e8%90%bd%e8%aa%9e%e3%80%80%e6%9f%b3%e5%ae%b6%e5%96%ac%e5%a4%aa%e9%83%8e%e3%80%80%e6%9f%b3%e5%ae%b6%e4%b8%89%e4%b8%89%e3%80%80%e4%b8%89%e9%81%8a%e4%ba%ad%e8%90%ac/
LOCATION:ホール
CATEGORIES:ホール
END:VEVENT
BEGIN:VEVENT
DTSTART;VALUE=DATE:20240916
DTEND;VALUE=DATE:20240917
DTSTAMP:20260423T042023
CREATED:20240829T032403Z
LAST-MODIFIED:20240829T032403Z
UID:34795-1726444800-1726531199@culttz.city.kawasaki.jp
SUMMARY:コンセール21管弦楽団第60回定期演奏会
DESCRIPTION:開場/13:00　開演/13:30 \nhttp://park19.wakwak.com/~hshino/concert21/
URL:https://culttz.city.kawasaki.jp/event/%e3%82%b3%e3%83%b3%e3%82%bb%e3%83%bc%e3%83%ab21%e7%ae%a1%e5%bc%a6%e6%a5%bd%e5%9b%a3%e7%ac%ac60%e5%9b%9e%e5%ae%9a%e6%9c%9f%e6%bc%94%e5%a5%8f%e4%bc%9a/
LOCATION:ホール
CATEGORIES:ホール
END:VEVENT
BEGIN:VEVENT
DTSTART;VALUE=DATE:20240919
DTEND;VALUE=DATE:20240920
DTSTAMP:20260423T042023
CREATED:20240711T101805Z
LAST-MODIFIED:20240711T101805Z
UID:34154-1726704000-1726790399@culttz.city.kawasaki.jp
SUMMARY:レッツ・プレイ・スタインウェイ
DESCRIPTION:レッツ・プレイ・スタインウェイ開催スケジュール
URL:https://culttz.city.kawasaki.jp/event/%e3%83%ac%e3%83%83%e3%83%84%e3%83%bb%e3%83%97%e3%83%ac%e3%82%a4%e3%83%bb%e3%82%b9%e3%82%bf%e3%82%a4%e3%83%b3%e3%82%a6%e3%82%a7%e3%82%a4-37/
LOCATION:ホール
CATEGORIES:ホール
END:VEVENT
BEGIN:VEVENT
DTSTART;VALUE=DATE:20240920
DTEND;VALUE=DATE:20240921
DTSTAMP:20260423T042023
CREATED:20240829T092038Z
LAST-MODIFIED:20240829T092038Z
UID:34804-1726790400-1726876799@culttz.city.kawasaki.jp
SUMMARY:＜臨時開催＞レッツ・プレイ・スタインウェイ
DESCRIPTION:レッツ・プレイ・スタインウェイ開催スケジュール
URL:https://culttz.city.kawasaki.jp/event/%ef%bc%9c%e8%87%a8%e6%99%82%e9%96%8b%e5%82%ac%ef%bc%9e%e3%83%ac%e3%83%83%e3%83%84%e3%83%bb%e3%83%97%e3%83%ac%e3%82%a4%e3%83%bb%e3%82%b9%e3%82%bf%e3%82%a4%e3%83%b3%e3%82%a6%e3%82%a7%e3%82%a4-2/
LOCATION:ホール
CATEGORIES:ホール
END:VEVENT
BEGIN:VEVENT
DTSTART;VALUE=DATE:20240928
DTEND;VALUE=DATE:20240929
DTSTAMP:20260423T042023
CREATED:20240830T035459Z
LAST-MODIFIED:20240830T035459Z
UID:34824-1727481600-1727567999@culttz.city.kawasaki.jp
SUMMARY:川崎市民交響楽団第200回定期演奏会
DESCRIPTION:17:30開場　18:00開演 \nhttp://kawakyo.jp/concert.htm \n 
URL:https://culttz.city.kawasaki.jp/event/%e5%b7%9d%e5%b4%8e%e5%b8%82%e6%b0%91%e4%ba%a4%e9%9f%bf%e6%a5%bd%e5%9b%a3%e7%ac%ac200%e5%9b%9e%e5%ae%9a%e6%9c%9f%e6%bc%94%e5%a5%8f%e4%bc%9a/
LOCATION:ホール
CATEGORIES:ホール
END:VEVENT
END:VCALENDAR