BEGIN:VCALENDAR
VERSION:2.0
PRODID:-//カルッツかわさき（川崎市スポーツ・文化総合センター） - ECPv6.15.17.1//NONSGML v1.0//EN
CALSCALE:GREGORIAN
METHOD:PUBLISH
X-WR-CALNAME:カルッツかわさき（川崎市スポーツ・文化総合センター）
X-ORIGINAL-URL:https://culttz.city.kawasaki.jp
X-WR-CALDESC:カルッツかわさき（川崎市スポーツ・文化総合センター） のイベント
REFRESH-INTERVAL;VALUE=DURATION:PT1H
X-Robots-Tag:noindex
X-PUBLISHED-TTL:PT1H
BEGIN:VTIMEZONE
TZID:Asia/Tokyo
BEGIN:STANDARD
TZOFFSETFROM:+0900
TZOFFSETTO:+0900
TZNAME:JST
DTSTART:20230101T000000
END:STANDARD
END:VTIMEZONE
BEGIN:VEVENT
DTSTART;VALUE=DATE:20240702
DTEND;VALUE=DATE:20240704
DTSTAMP:20260423T074015
CREATED:20240617T122743Z
LAST-MODIFIED:20240617T122743Z
UID:33615-1719878400-1720051199@culttz.city.kawasaki.jp
SUMMARY:＜臨時開催＞レッツ・プレイ・スタインウェイ
DESCRIPTION:
URL:https://culttz.city.kawasaki.jp/event/%ef%bc%9c%e8%87%a8%e6%99%82%e9%96%8b%e5%82%ac%ef%bc%9e%e3%83%ac%e3%83%83%e3%83%84%e3%83%bb%e3%83%97%e3%83%ac%e3%82%a4%e3%83%bb%e3%82%b9%e3%82%bf%e3%82%a4%e3%83%b3%e3%82%a6%e3%82%a7%e3%82%a4/
LOCATION:ホール
CATEGORIES:ホール
END:VEVENT
BEGIN:VEVENT
DTSTART;VALUE=DATE:20240706
DTEND;VALUE=DATE:20240707
DTSTAMP:20260423T074015
CREATED:20240320T033509Z
LAST-MODIFIED:20240320T033509Z
UID:32502-1720224000-1720310399@culttz.city.kawasaki.jp
SUMMARY:岡本知高Concerto del Sopranista 2023-2024
DESCRIPTION:開場14:30　開演15:00 \n※カルッツかわさきでのチケット取り扱いはございません。 \n公演のお問い合わせ：\nMIN-ONインフォメーションセンター　TEL：03(3226)9999\n平日：10:00～16:00（営業時間は変更となる場合がございます）
URL:https://culttz.city.kawasaki.jp/event/%e5%b2%a1%e6%9c%ac%e7%9f%a5%e9%ab%98concerto-del-sopranista-2023-2024/
LOCATION:ホール
CATEGORIES:ホール
END:VEVENT
BEGIN:VEVENT
DTSTART;VALUE=DATE:20240707
DTEND;VALUE=DATE:20240708
DTSTAMP:20260423T074015
CREATED:20240411T101239Z
LAST-MODIFIED:20240411T101616Z
UID:32781-1720310400-1720396799@culttz.city.kawasaki.jp
SUMMARY:GRe4N BOYZ LIVE TOUR 2024 “The CUBE” 〜何処かに広がる大きな声が〜
DESCRIPTION:開場/16:00　開演/17:00 \nGRe4N BOYZ LIVE TOUR 2024 “The CUBE” 〜何処かに広がる大きな声が〜
URL:https://culttz.city.kawasaki.jp/event/gre4n-boyz-live-tour-2024-the-cube-%e3%80%9c%e4%bd%95%e5%87%a6%e3%81%8b%e3%81%ab%e5%ba%83%e3%81%8c%e3%82%8b%e5%a4%a7%e3%81%8d%e3%81%aa%e5%a3%b0%e3%81%8c%e3%80%9c/
LOCATION:ホール
CATEGORIES:ホール
END:VEVENT
BEGIN:VEVENT
DTSTART;VALUE=DATE:20240713
DTEND;VALUE=DATE:20240714
DTSTAMP:20260423T074015
CREATED:20240219T020035Z
LAST-MODIFIED:20240219T020035Z
UID:31593-1720828800-1720915199@culttz.city.kawasaki.jp
SUMMARY:天才ヴァイオリニストHIMARI × 神奈川フィル　幻想と熱狂のクラシック名曲選！
DESCRIPTION:開場/13:15　開演/14:00 \n天才ヴァイオリニストHIMARI × 神奈川フィル　幻想と熱狂のクラシック名曲選！
URL:https://culttz.city.kawasaki.jp/event/%e5%a4%a9%e6%89%8d%e3%83%b4%e3%82%a1%e3%82%a4%e3%82%aa%e3%83%aa%e3%83%8b%e3%82%b9%e3%83%88himari-x-%e7%a5%9e%e5%a5%88%e5%b7%9d%e3%83%95%e3%82%a3%e3%83%ab%e3%80%80%e5%b9%bb%e6%83%b3%e3%81%a8/
LOCATION:ホール
CATEGORIES:ホール
END:VEVENT
BEGIN:VEVENT
DTSTART;VALUE=DATE:20240718
DTEND;VALUE=DATE:20240719
DTSTAMP:20260423T074015
CREATED:20240617T122835Z
LAST-MODIFIED:20240617T122835Z
UID:33617-1721260800-1721347199@culttz.city.kawasaki.jp
SUMMARY:レッツ・プレイ・スタインウェイ
DESCRIPTION:
URL:https://culttz.city.kawasaki.jp/event/%e3%83%ac%e3%83%83%e3%83%84%e3%83%bb%e3%83%97%e3%83%ac%e3%82%a4%e3%83%bb%e3%82%b9%e3%82%bf%e3%82%a4%e3%83%b3%e3%82%a6%e3%82%a7%e3%82%a4-35/
LOCATION:ホール
CATEGORIES:ホール
END:VEVENT
BEGIN:VEVENT
DTSTART;VALUE=DATE:20240725
DTEND;VALUE=DATE:20240728
DTSTAMP:20260423T074015
CREATED:20240723T071331Z
LAST-MODIFIED:20240723T083501Z
UID:34249-1721865600-1722124799@culttz.city.kawasaki.jp
SUMMARY:令和6年度　第25回川崎吹奏楽コンクール
DESCRIPTION:７月25日（木）   中学生B　9:30開場　10:00開演\n７月26日（金）　中学生A　9:30開場　10:00開演\n７月27日（土）　高校生B・A　9:30開場　10:00開演 \nhttp://hosei-h2band.sun.bindcloud.jp/kawasuiren/pg140518.html
URL:https://culttz.city.kawasaki.jp/event/%e4%bb%a4%e5%92%8c6%e5%b9%b4%e5%ba%a6%e3%80%80%e7%ac%ac25%e5%9b%9e%e5%b7%9d%e5%b4%8e%e5%90%b9%e5%a5%8f%e6%a5%bd%e3%82%b3%e3%83%b3%e3%82%af%e3%83%bc%e3%83%ab/
LOCATION:ホール
CATEGORIES:ホール
END:VEVENT
END:VCALENDAR