BEGIN:VCALENDAR
VERSION:2.0
PRODID:-//カルッツかわさき（川崎市スポーツ・文化総合センター） - ECPv6.15.17.1//NONSGML v1.0//EN
CALSCALE:GREGORIAN
METHOD:PUBLISH
X-WR-CALNAME:カルッツかわさき（川崎市スポーツ・文化総合センター）
X-ORIGINAL-URL:https://culttz.city.kawasaki.jp
X-WR-CALDESC:カルッツかわさき（川崎市スポーツ・文化総合センター） のイベント
REFRESH-INTERVAL;VALUE=DURATION:PT1H
X-Robots-Tag:noindex
X-PUBLISHED-TTL:PT1H
BEGIN:VTIMEZONE
TZID:Asia/Tokyo
BEGIN:STANDARD
TZOFFSETFROM:+0900
TZOFFSETTO:+0900
TZNAME:JST
DTSTART:20230101T000000
END:STANDARD
END:VTIMEZONE
BEGIN:VEVENT
DTSTART;VALUE=DATE:20240106
DTEND;VALUE=DATE:20240108
DTSTAMP:20260423T165337
CREATED:20231216T044144Z
LAST-MODIFIED:20231216T044144Z
UID:28243-1704499200-1704671999@culttz.city.kawasaki.jp
SUMMARY:第3回かわさきピアノコンクール本選
DESCRIPTION:https://kawasaki-piano.jp/ \n 
URL:https://culttz.city.kawasaki.jp/event/%e7%ac%ac3%e5%9b%9e%e3%81%8b%e3%82%8f%e3%81%95%e3%81%8d%e3%83%94%e3%82%a2%e3%83%8e%e3%82%b3%e3%83%b3%e3%82%af%e3%83%bc%e3%83%ab%e6%9c%ac%e9%81%b8/
LOCATION:ホール
CATEGORIES:ホール
END:VEVENT
BEGIN:VEVENT
DTSTART;VALUE=DATE:20240108
DTEND;VALUE=DATE:20240109
DTSTAMP:20260423T165337
CREATED:20231216T042159Z
LAST-MODIFIED:20231216T042217Z
UID:28225-1704672000-1704758399@culttz.city.kawasaki.jp
SUMMARY:MONGOL800 25th LAST PARADISE TOUR 2023-2024
DESCRIPTION:開場/16:15 開演/17:00 \nMONGOL800 25th LAST PARADISE TOUR 2023-2024
URL:https://culttz.city.kawasaki.jp/event/mongol800-25th-last-paradise-tour-2023-2024/
LOCATION:ホール
CATEGORIES:ホール
END:VEVENT
BEGIN:VEVENT
DTSTART;VALUE=DATE:20240114
DTEND;VALUE=DATE:20240115
DTSTAMP:20260423T165337
CREATED:20231216T042359Z
LAST-MODIFIED:20231216T042359Z
UID:28227-1705190400-1705276799@culttz.city.kawasaki.jp
SUMMARY:世界音楽への招待　from音楽の街かわさき ～川崎から旅立つ、世界音楽紀行
DESCRIPTION:開場/15:30　開演/16:30\n終演/19:00（予定） \n世界音楽への招待　from音楽の街かわさき ～川崎から旅立つ、世界音楽紀行
URL:https://culttz.city.kawasaki.jp/event/%e4%b8%96%e7%95%8c%e9%9f%b3%e6%a5%bd%e3%81%b8%e3%81%ae%e6%8b%9b%e5%be%85%e3%80%80from%e9%9f%b3%e6%a5%bd%e3%81%ae%e8%a1%97%e3%81%8b%e3%82%8f%e3%81%95%e3%81%8d-%ef%bd%9e%e5%b7%9d%e5%b4%8e%e3%81%8b/
LOCATION:ホール
CATEGORIES:ホール
END:VEVENT
BEGIN:VEVENT
DTSTART;VALUE=DATE:20240117
DTEND;VALUE=DATE:20240120
DTSTAMP:20260423T165337
CREATED:20231216T041720Z
LAST-MODIFIED:20240112T075952Z
UID:28219-1705449600-1705708799@culttz.city.kawasaki.jp
SUMMARY:レッツプレイスタインウェイ
DESCRIPTION:レッツ・プレイ・スタインウェイ開催スケジュール
URL:https://culttz.city.kawasaki.jp/event/%e3%83%ac%e3%83%83%e3%83%84%e3%83%97%e3%83%ac%e3%82%a4%e3%82%b9%e3%82%bf%e3%82%a4%e3%83%b3%e3%82%a6%e3%82%a7%e3%82%a4-5/
LOCATION:ホール
CATEGORIES:ホール
END:VEVENT
BEGIN:VEVENT
DTSTART;VALUE=DATE:20240121
DTEND;VALUE=DATE:20240122
DTSTAMP:20260423T165337
CREATED:20231216T044815Z
LAST-MODIFIED:20231216T044815Z
UID:28245-1705795200-1705881599@culttz.city.kawasaki.jp
SUMMARY:ヴィルトーゾフィルハーモニー管弦楽団　第56回定期演奏会
DESCRIPTION:13:00 開場 / 13:30 開演 \nhttps://www.facebook.com/events/1298729724168520?ref=newsfeed&locale=ja_JP
URL:https://culttz.city.kawasaki.jp/event/%e3%83%b4%e3%82%a3%e3%83%ab%e3%83%88%e3%83%bc%e3%82%be%e3%83%95%e3%82%a3%e3%83%ab%e3%83%8f%e3%83%bc%e3%83%a2%e3%83%8b%e3%83%bc%e7%ae%a1%e5%bc%a6%e6%a5%bd%e5%9b%a3%e3%80%80%e7%ac%ac56%e5%9b%9e%e5%ae%9a/
LOCATION:ホール
CATEGORIES:ホール
END:VEVENT
END:VCALENDAR