BEGIN:VCALENDAR
VERSION:2.0
PRODID:-//カルッツかわさき（川崎市スポーツ・文化総合センター） - ECPv6.15.17.1//NONSGML v1.0//EN
CALSCALE:GREGORIAN
METHOD:PUBLISH
X-ORIGINAL-URL:https://culttz.city.kawasaki.jp
X-WR-CALDESC:カルッツかわさき（川崎市スポーツ・文化総合センター） のイベント
REFRESH-INTERVAL;VALUE=DURATION:PT1H
X-Robots-Tag:noindex
X-PUBLISHED-TTL:PT1H
BEGIN:VTIMEZONE
TZID:Asia/Tokyo
BEGIN:STANDARD
TZOFFSETFROM:+0900
TZOFFSETTO:+0900
TZNAME:JST
DTSTART:20220101T000000
END:STANDARD
END:VTIMEZONE
BEGIN:VEVENT
DTSTART;VALUE=DATE:20231209
DTEND;VALUE=DATE:20231210
DTSTAMP:20260423T182956
CREATED:20231108T084905Z
LAST-MODIFIED:20231108T084905Z
UID:27827-1702080000-1702166399@culttz.city.kawasaki.jp
SUMMARY:㈱太鼓センター　和太鼓コンサート【宴創】
DESCRIPTION:開場　13:30\n開演　14:00 \n和太鼓コンサート【宴創】2023.12~2024.2
URL:https://culttz.city.kawasaki.jp/event/%e3%88%b1%e5%a4%aa%e9%bc%93%e3%82%bb%e3%83%b3%e3%82%bf%e3%83%bc%e3%80%80%e5%92%8c%e5%a4%aa%e9%bc%93%e3%82%b3%e3%83%b3%e3%82%b5%e3%83%bc%e3%83%88%e3%80%90%e5%ae%b4%e5%89%b5%e3%80%91/
LOCATION:ホール
CATEGORIES:ホール
END:VEVENT
BEGIN:VEVENT
DTSTART;VALUE=DATE:20231210
DTEND;VALUE=DATE:20231211
DTSTAMP:20260423T182956
CREATED:20231121T035116Z
LAST-MODIFIED:20231121T035116Z
UID:28051-1702166400-1702252799@culttz.city.kawasaki.jp
SUMMARY:２０２３—少年の祭典「ボレロ」
DESCRIPTION:【開場】15：30 \n【開演】16：00 \nチラシダウンロード \n \n 
URL:https://culttz.city.kawasaki.jp/event/%ef%bc%92%ef%bc%90%ef%bc%92%ef%bc%93-%e5%b0%91%e5%b9%b4%e3%81%ae%e7%a5%ad%e5%85%b8%e3%80%8c%e3%83%9c%e3%83%ac%e3%83%ad%e3%80%8d/
LOCATION:ホール
CATEGORIES:ホール
END:VEVENT
BEGIN:VEVENT
DTSTART;VALUE=DATE:20231213
DTEND;VALUE=DATE:20231214
DTSTAMP:20260423T182956
CREATED:20231113T070318Z
LAST-MODIFIED:20231113T070318Z
UID:27882-1702425600-1702511999@culttz.city.kawasaki.jp
SUMMARY:川崎市老人クラブ連合会　ダンスまつり
DESCRIPTION:開場　9：45 \n開演　10：00 \n 
URL:https://culttz.city.kawasaki.jp/event/%e5%b7%9d%e5%b4%8e%e5%b8%82%e8%80%81%e4%ba%ba%e3%82%af%e3%83%a9%e3%83%96%e9%80%a3%e5%90%88%e4%bc%9a%e3%80%80%e3%83%80%e3%83%b3%e3%82%b9%e3%81%be%e3%81%a4%e3%82%8a/
LOCATION:ホール
CATEGORIES:ホール
END:VEVENT
BEGIN:VEVENT
DTSTART;VALUE=DATE:20231214
DTEND;VALUE=DATE:20231215
DTSTAMP:20260423T182956
CREATED:20230821T023300Z
LAST-MODIFIED:20230821T023300Z
UID:27291-1702512000-1702598399@culttz.city.kawasaki.jp
SUMMARY:【定期開催】レッツ・プレイ・スタインウェイ
DESCRIPTION:レッツ・プレイ・スタインウェイ開催スケジュール
URL:https://culttz.city.kawasaki.jp/event/%e3%80%90%e5%ae%9a%e6%9c%9f%e9%96%8b%e5%82%ac%e3%80%91%e3%83%ac%e3%83%83%e3%83%84%e3%83%bb%e3%83%97%e3%83%ac%e3%82%a4%e3%83%bb%e3%82%b9%e3%82%bf%e3%82%a4%e3%83%b3%e3%82%a6%e3%82%a7%e3%82%a4-4/
LOCATION:ホール
CATEGORIES:ホール
END:VEVENT
BEGIN:VEVENT
DTSTART;VALUE=DATE:20231214
DTEND;VALUE=DATE:20231215
DTSTAMP:20260423T182956
CREATED:20231113T070641Z
LAST-MODIFIED:20231113T070641Z
UID:27884-1702512000-1702598399@culttz.city.kawasaki.jp
SUMMARY:◆ウィズ・ミューズシリーズ◆　第35回　宮下嘉彦バリトン・リサイタル
DESCRIPTION:◆ウィズ・ミューズシリーズ◆　第35回　宮下嘉彦バリトン・リサイタル
URL:https://culttz.city.kawasaki.jp/event/%e2%97%86%e3%82%a6%e3%82%a3%e3%82%ba%e3%83%bb%e3%83%9f%e3%83%a5%e3%83%bc%e3%82%ba%e3%82%b7%e3%83%aa%e3%83%bc%e3%82%ba%e2%97%86%e3%80%80%e7%ac%ac35%e5%9b%9e%e3%80%80%e5%ae%ae%e4%b8%8b%e5%98%89%e5%bd%a6/
LOCATION:アクトスタジオ
CATEGORIES:アクトスタジオ
END:VEVENT
BEGIN:VEVENT
DTSTART;VALUE=DATE:20231216
DTEND;VALUE=DATE:20231217
DTSTAMP:20260423T182956
CREATED:20231208T022944Z
LAST-MODIFIED:20231208T022944Z
UID:28164-1702684800-1702771199@culttz.city.kawasaki.jp
SUMMARY:グラールウインドオーケストラ　ウインターコンサート２２
DESCRIPTION:13：20 開場　14：00 開演　16：30 終演予定\n(13：30よりウエルカムコンサートがあります) \nhttps://gralwindorchestra.com/concert
URL:https://culttz.city.kawasaki.jp/event/%e3%82%b0%e3%83%a9%e3%83%bc%e3%83%ab%e3%82%a6%e3%82%a4%e3%83%b3%e3%83%89%e3%82%aa%e3%83%bc%e3%82%b1%e3%82%b9%e3%83%88%e3%83%a9%e3%80%80%e3%82%a6%e3%82%a4%e3%83%b3%e3%82%bf%e3%83%bc%e3%82%b3%e3%83%b3-4/
LOCATION:ホール
CATEGORIES:ホール
END:VEVENT
BEGIN:VEVENT
DTSTART;VALUE=DATE:20231227
DTEND;VALUE=DATE:20231228
DTSTAMP:20260423T182956
CREATED:20231204T082703Z
LAST-MODIFIED:20231204T082802Z
UID:28142-1703635200-1703721599@culttz.city.kawasaki.jp
SUMMARY:インターナショナルバレエ武蔵小杉スタジオ第3回発表会
DESCRIPTION:[開場]　16：00\n[開演]　16：30\nhttps://ameblo.jp/mmiirraaii/entry-12819598118.html
URL:https://culttz.city.kawasaki.jp/event/%e3%82%a4%e3%83%b3%e3%82%bf%e3%83%bc%e3%83%8a%e3%82%b7%e3%83%a7%e3%83%8a%e3%83%ab%e3%83%90%e3%83%ac%e3%82%a8%e6%ad%a6%e8%94%b5%e5%b0%8f%e6%9d%89%e3%82%b9%e3%82%bf%e3%82%b8%e3%82%aa%e7%ac%ac3%e5%9b%9e/
LOCATION:ホール
CATEGORIES:ホール
END:VEVENT
END:VCALENDAR