BEGIN:VCALENDAR
VERSION:2.0
PRODID:-//カルッツかわさき（川崎市スポーツ・文化総合センター） - ECPv6.15.17.1//NONSGML v1.0//EN
CALSCALE:GREGORIAN
METHOD:PUBLISH
X-WR-CALNAME:カルッツかわさき（川崎市スポーツ・文化総合センター）
X-ORIGINAL-URL:https://culttz.city.kawasaki.jp
X-WR-CALDESC:カルッツかわさき（川崎市スポーツ・文化総合センター） のイベント
REFRESH-INTERVAL;VALUE=DURATION:PT1H
X-Robots-Tag:noindex
X-PUBLISHED-TTL:PT1H
BEGIN:VTIMEZONE
TZID:Asia/Tokyo
BEGIN:STANDARD
TZOFFSETFROM:+0900
TZOFFSETTO:+0900
TZNAME:JST
DTSTART:20220101T000000
END:STANDARD
END:VTIMEZONE
BEGIN:VEVENT
DTSTART;VALUE=DATE:20230903
DTEND;VALUE=DATE:20230904
DTSTAMP:20260423T225509
CREATED:20230729T015029Z
LAST-MODIFIED:20230729T015029Z
UID:27089-1693699200-1693785599@culttz.city.kawasaki.jp
SUMMARY:よしもとお笑いライブ～秋の爆笑ネタまつり～in川崎2023
DESCRIPTION:【1】開場/9:30　開演/10:00\n【2】開場/12:30　開演/13:00 \nよしもとお笑いライブ～秋の爆笑ネタまつり～in川崎2023
URL:https://culttz.city.kawasaki.jp/event/%e3%82%88%e3%81%97%e3%82%82%e3%81%a8%e3%81%8a%e7%ac%91%e3%81%84%e3%83%a9%e3%82%a4%e3%83%96%ef%bd%9e%e7%a7%8b%e3%81%ae%e7%88%86%e7%ac%91%e3%83%8d%e3%82%bf%e3%81%be%e3%81%a4%e3%82%8a%ef%bd%9ein%e5%b7%9d/
LOCATION:ホール
CATEGORIES:ホール
END:VEVENT
BEGIN:VEVENT
DTSTART;VALUE=DATE:20230907
DTEND;VALUE=DATE:20230908
DTSTAMP:20260423T225509
CREATED:20230729T015718Z
LAST-MODIFIED:20230729T015718Z
UID:27092-1694044800-1694131199@culttz.city.kawasaki.jp
SUMMARY:⽟置浩⼆ Concert Tour 2023 故郷BAND 〜⽥園〜
DESCRIPTION:開場/17:00　開演/18:00 \n⽟置浩⼆ Concert Tour 2023 故郷BAND 〜⽥園〜
URL:https://culttz.city.kawasaki.jp/event/%e2%bd%9f%e7%bd%ae%e6%b5%a9%e2%bc%86-concert-tour-2023-%e6%95%85%e9%83%b7band-%e3%80%9c%e2%bd%a5%e5%9c%92%e3%80%9c/
LOCATION:ホール
CATEGORIES:ホール
END:VEVENT
BEGIN:VEVENT
DTSTART;VALUE=DATE:20230916
DTEND;VALUE=DATE:20230917
DTSTAMP:20260423T225509
CREATED:20230710T035518Z
LAST-MODIFIED:20230729T020647Z
UID:26945-1694822400-1694908799@culttz.city.kawasaki.jp
SUMMARY:島津亜矢　歌怪獣襲来ツアー2023
DESCRIPTION:開場/13:30　開演/14:00 \n島津亜矢　歌怪獣襲来ツアー2023
URL:https://culttz.city.kawasaki.jp/event/%e5%b3%b6%e6%b4%a5%e4%ba%9c%e7%9f%a2%e3%80%80%e6%ad%8c%e6%80%aa%e7%8d%a3%e8%a5%b2%e6%9d%a5%e3%83%84%e3%82%a2%e3%83%bc2023/
LOCATION:ホール
CATEGORIES:ホール
END:VEVENT
BEGIN:VEVENT
DTSTART;VALUE=DATE:20230923
DTEND;VALUE=DATE:20230924
DTSTAMP:20260423T225509
CREATED:20230901T025744Z
LAST-MODIFIED:20230901T025744Z
UID:27439-1695427200-1695513599@culttz.city.kawasaki.jp
SUMMARY:STAND UP DANCE CIRCLE 「5TH ANNIVERSARY PRESENTAION」
DESCRIPTION:開場／ 15:30 \n開演／ 16:00 \nhttps://standup.amebaownd.com/ \n 
URL:https://culttz.city.kawasaki.jp/event/stand-up-dance-circle-%e3%80%8c5th-anniversary-presentaion%e3%80%8d/
LOCATION:ホール
CATEGORIES:ホール
END:VEVENT
BEGIN:VEVENT
DTSTART;VALUE=DATE:20230924
DTEND;VALUE=DATE:20230925
DTSTAMP:20260423T225509
CREATED:20230729T015947Z
LAST-MODIFIED:20230729T015947Z
UID:27096-1695513600-1695599999@culttz.city.kawasaki.jp
SUMMARY:カルッツ落語　柳亭小痴楽　桂宮治　二人会
DESCRIPTION:開場/13:00　開演/14:00 \nカルッツ落語　柳亭小痴楽　桂宮治　二人会
URL:https://culttz.city.kawasaki.jp/event/%e3%82%ab%e3%83%ab%e3%83%83%e3%83%84%e8%90%bd%e8%aa%9e%e3%80%80%e6%9f%b3%e4%ba%ad%e5%b0%8f%e7%97%b4%e6%a5%bd%e3%80%80%e6%a1%82%e5%ae%ae%e6%b2%bb%e3%80%80%e4%ba%8c%e4%ba%ba%e4%bc%9a/
LOCATION:ホール
CATEGORIES:ホール
END:VEVENT
BEGIN:VEVENT
DTSTART;VALUE=DATE:20230925
DTEND;VALUE=DATE:20230926
DTSTAMP:20260423T225509
CREATED:20230821T022948Z
LAST-MODIFIED:20230821T022948Z
UID:27285-1695600000-1695686399@culttz.city.kawasaki.jp
SUMMARY:【定期開催】レッツ・プレイ・スタインウェイ
DESCRIPTION:レッツ・プレイ・スタインウェイ開催スケジュール
URL:https://culttz.city.kawasaki.jp/event/%e3%80%90%e5%ae%9a%e6%9c%9f%e9%96%8b%e5%82%ac%e3%80%91%e3%83%ac%e3%83%83%e3%83%84%e3%83%bb%e3%83%97%e3%83%ac%e3%82%a4%e3%83%bb%e3%82%b9%e3%82%bf%e3%82%a4%e3%83%b3%e3%82%a6%e3%82%a7%e3%82%a4/
LOCATION:ホール
CATEGORIES:ホール
END:VEVENT
BEGIN:VEVENT
DTSTART;VALUE=DATE:20230929
DTEND;VALUE=DATE:20230930
DTSTAMP:20260423T225509
CREATED:20230920T005454Z
LAST-MODIFIED:20230920T005821Z
UID:27546-1695945600-1696031999@culttz.city.kawasaki.jp
SUMMARY:インターナショナルダンスフェスティバル2023
DESCRIPTION:ロビー開場／16:00\nステージ開場／17:30\nステージ開演／18:00（終演予定／20:50） \nステージ出演：\n🔸ジャワのガムラン音楽、舞踊、影絵芝居ワヤン「スミリール」(スミヤント、根津亜矢子、他ガムラン奏者14名)\nhttp://sumilir.cocolog-nifty.com/\n🔸ボリビアフォルクローレ「グルッポ・レナセール」(クラウディア・アンドレア、菱本幸二、柳和男、Ilse Lara)　\nhttps://instagram.com/claudiaandreamusic\n🔸日本舞踊「花柳流　日舞扇乃会」（花柳右学、花柳右寿光）\n🔸フラ＆タヒチアン「Hula Halau o Kealohiフラハーラウオケアロヒ」\nhttps://hulahalauokealohi.com/\n🔸ベリーダンス「Studio Yasmin」\nhttps://raksyasmin.com/\n🔸アゼルバイジャン民族舞踊(Dilaraディララ)\nhttps://instagram.com/dilara_fujimi\n🔸ブルガリア民謡とダンス(佐藤みゆき、大野慎矢、Szabi) \n入場料：大人2\,800円　中高生1\,000円　小学生500円\nご予約・お問合せ：\n出演者もしくは\ninfo.kida2023@gmail.com (KIDA)
URL:https://culttz.city.kawasaki.jp/event/%e3%82%a4%e3%83%b3%e3%82%bf%e3%83%bc%e3%83%8a%e3%82%b7%e3%83%a7%e3%83%8a%e3%83%ab%e3%83%80%e3%83%b3%e3%82%b9%e3%83%95%e3%82%a7%e3%82%b9%e3%83%86%e3%82%a3%e3%83%90%e3%83%ab2023/
LOCATION:ホール
CATEGORIES:ホール
END:VEVENT
BEGIN:VEVENT
DTSTART;VALUE=DATE:20230930
DTEND;VALUE=DATE:20231001
DTSTAMP:20260423T225509
CREATED:20230907T044451Z
LAST-MODIFIED:20230907T044451Z
UID:27486-1696032000-1696118399@culttz.city.kawasaki.jp
SUMMARY:2023 DREAM ROOKIE CONCERT
DESCRIPTION:１部　開場/13:15　開演/14:00\n２部　開場/17:15　開演/18:00 \n2023 DREAM ROOKIE CONCERT
URL:https://culttz.city.kawasaki.jp/event/2023-dream-rookie-concert/
LOCATION:ホール
CATEGORIES:ホール
END:VEVENT
END:VCALENDAR