BEGIN:VCALENDAR
VERSION:2.0
PRODID:-//カルッツかわさき（川崎市スポーツ・文化総合センター） - ECPv6.15.17.1//NONSGML v1.0//EN
CALSCALE:GREGORIAN
METHOD:PUBLISH
X-ORIGINAL-URL:https://culttz.city.kawasaki.jp
X-WR-CALDESC:カルッツかわさき（川崎市スポーツ・文化総合センター） のイベント
REFRESH-INTERVAL;VALUE=DURATION:PT1H
X-Robots-Tag:noindex
X-PUBLISHED-TTL:PT1H
BEGIN:VTIMEZONE
TZID:Asia/Tokyo
BEGIN:STANDARD
TZOFFSETFROM:+0900
TZOFFSETTO:+0900
TZNAME:JST
DTSTART:20220101T000000
END:STANDARD
END:VTIMEZONE
BEGIN:VEVENT
DTSTART;VALUE=DATE:20230710
DTEND;VALUE=DATE:20230711
DTSTAMP:20260424T032409
CREATED:20230403T061314Z
LAST-MODIFIED:20230403T061314Z
UID:26072-1688947200-1689033599@culttz.city.kawasaki.jp
SUMMARY:民音創立60周年記念　ウクライナ国立民族舞踊団　スピリット・オブ・ウクライナ
DESCRIPTION:開場/17:45　開演/18:30 \n公演のお問い合わせ：\nMIN-ONインフォメーションセンター　TEL：03(3226)9999\n平日：10:00～16:00（営業時間は変更となる場合がございます） \n※カルッツかわさきでのチケット取り扱いはございません。
URL:https://culttz.city.kawasaki.jp/event/%e6%b0%91%e9%9f%b3%e5%89%b5%e7%ab%8b60%e5%91%a8%e5%b9%b4%e8%a8%98%e5%bf%b5%e3%80%80%e3%82%a6%e3%82%af%e3%83%a9%e3%82%a4%e3%83%8a%e5%9b%bd%e7%ab%8b%e6%b0%91%e6%97%8f%e8%88%9e%e8%b8%8a%e5%9b%a3%e3%80%80/
LOCATION:ホール
CATEGORIES:ホール
END:VEVENT
BEGIN:VEVENT
DTSTART;VALUE=DATE:20230713
DTEND;VALUE=DATE:20230714
DTSTAMP:20260424T032409
CREATED:20230612T122002Z
LAST-MODIFIED:20230612T122002Z
UID:26749-1689206400-1689292799@culttz.city.kawasaki.jp
SUMMARY:レッツプレイスタインウェイ
DESCRIPTION:レッツ・プレイ・スタインウェイ開催スケジュール
URL:https://culttz.city.kawasaki.jp/event/%e3%83%ac%e3%83%83%e3%83%84%e3%83%97%e3%83%ac%e3%82%a4%e3%82%b9%e3%82%bf%e3%82%a4%e3%83%b3%e3%82%a6%e3%82%a7%e3%82%a4-3/
LOCATION:ホール
CATEGORIES:ホール
END:VEVENT
BEGIN:VEVENT
DTSTART;VALUE=DATE:20230722
DTEND;VALUE=DATE:20230723
DTSTAMP:20260424T032409
CREATED:20230220T094427Z
LAST-MODIFIED:20230220T094427Z
UID:25761-1689984000-1690070399@culttz.city.kawasaki.jp
SUMMARY:亀井聖矢 × 太田弦 × 神奈川フィル　チャイコフスキー&ラフマニノフ 名曲コンサート
DESCRIPTION:開場/16:00　開演/17:00 \n亀井聖矢 × 太田弦 × 神奈川フィル　チャイコフスキー&ラフマニノフ 名曲コンサート
URL:https://culttz.city.kawasaki.jp/event/%e4%ba%80%e4%ba%95%e8%81%96%e7%9f%a2-x-%e5%a4%aa%e7%94%b0%e5%bc%a6-x-%e7%a5%9e%e5%a5%88%e5%b7%9d%e3%83%95%e3%82%a3%e3%83%ab%e3%80%80%e3%83%81%e3%83%a3%e3%82%a4%e3%82%b3%e3%83%95%e3%82%b9/
LOCATION:ホール
CATEGORIES:ホール
END:VEVENT
BEGIN:VEVENT
DTSTART;VALUE=DATE:20230723
DTEND;VALUE=DATE:20230724
DTSTAMP:20260424T032409
CREATED:20230612T114031Z
LAST-MODIFIED:20230612T114031Z
UID:26747-1690070400-1690156799@culttz.city.kawasaki.jp
SUMMARY:ヴィルトーゾフィルハーモニー管弦楽団 第55回定期演奏会
DESCRIPTION:開場／13：00 \n開演／13：30 \nhttps://www.facebook.com/virtuoso1993?locale=ja_JP
URL:https://culttz.city.kawasaki.jp/event/%e3%83%b4%e3%82%a3%e3%83%ab%e3%83%88%e3%83%bc%e3%82%be%e3%83%95%e3%82%a3%e3%83%ab%e3%83%8f%e3%83%bc%e3%83%a2%e3%83%8b%e3%83%bc%e7%ae%a1%e5%bc%a6%e6%a5%bd%e5%9b%a3-%e7%ac%ac55%e5%9b%9e%e5%ae%9a/
LOCATION:ホール
END:VEVENT
BEGIN:VEVENT
DTSTART;VALUE=DATE:20230728
DTEND;VALUE=DATE:20230731
DTSTAMP:20260424T032409
CREATED:20230725T081147Z
LAST-MODIFIED:20230725T081147Z
UID:27025-1690502400-1690761599@culttz.city.kawasaki.jp
SUMMARY:令和5年度　第24回川崎吹奏楽コンクール
DESCRIPTION:７月28日（金）   中学生B　9:30開場　10:00開演\n７月29日（土）　中学生A　9:30開場　10:00開演\n７月30日（日）　高校生B・A　9:30開場　10:00開演 \nhttp://hosei-h2band.sun.bindcloud.jp/kawasuiren/pg140518.html
URL:https://culttz.city.kawasaki.jp/event/%e4%bb%a4%e5%92%8c5%e5%b9%b4%e5%ba%a6%e3%80%80%e7%ac%ac24%e5%9b%9e%e5%b7%9d%e5%b4%8e%e5%90%b9%e5%a5%8f%e6%a5%bd%e3%82%b3%e3%83%b3%e3%82%af%e3%83%bc%e3%83%ab/
LOCATION:ホール
CATEGORIES:ホール
END:VEVENT
END:VCALENDAR