BEGIN:VCALENDAR
VERSION:2.0
PRODID:-//カルッツかわさき（川崎市スポーツ・文化総合センター） - ECPv6.15.17.1//NONSGML v1.0//EN
CALSCALE:GREGORIAN
METHOD:PUBLISH
X-WR-CALNAME:カルッツかわさき（川崎市スポーツ・文化総合センター）
X-ORIGINAL-URL:https://culttz.city.kawasaki.jp
X-WR-CALDESC:カルッツかわさき（川崎市スポーツ・文化総合センター） のイベント
REFRESH-INTERVAL;VALUE=DURATION:PT1H
X-Robots-Tag:noindex
X-PUBLISHED-TTL:PT1H
BEGIN:VTIMEZONE
TZID:Asia/Tokyo
BEGIN:STANDARD
TZOFFSETFROM:+0900
TZOFFSETTO:+0900
TZNAME:JST
DTSTART:20200101T000000
END:STANDARD
END:VTIMEZONE
BEGIN:VEVENT
DTSTART;VALUE=DATE:20210303
DTEND;VALUE=DATE:20210304
DTSTAMP:20260422T054734
CREATED:20201117T101543Z
LAST-MODIFIED:20201117T101543Z
UID:17112-1614729600-1614815999@culttz.city.kawasaki.jp
SUMMARY:関係者のみの利用がございます
DESCRIPTION:
URL:https://culttz.city.kawasaki.jp/event/%e9%96%a2%e4%bf%82%e8%80%85%e3%81%ae%e3%81%bf%e3%81%ae%e5%88%a9%e7%94%a8%e3%81%8c%e3%81%94%e3%81%96%e3%81%84%e3%81%be%e3%81%99-391/
LOCATION:ホール
CATEGORIES:ホール
END:VEVENT
BEGIN:VEVENT
DTSTART;VALUE=DATE:20210309
DTEND;VALUE=DATE:20210313
DTSTAMP:20260422T054734
CREATED:20210311T114113Z
LAST-MODIFIED:20210311T114113Z
UID:18483-1615248000-1615593599@culttz.city.kawasaki.jp
SUMMARY:関係者のみの利用がございます
DESCRIPTION:
URL:https://culttz.city.kawasaki.jp/event/%e9%96%a2%e4%bf%82%e8%80%85%e3%81%ae%e3%81%bf%e3%81%ae%e5%88%a9%e7%94%a8%e3%81%8c%e3%81%94%e3%81%96%e3%81%84%e3%81%be%e3%81%99-402/
LOCATION:ホール
CATEGORIES:ホール
END:VEVENT
BEGIN:VEVENT
DTSTART;VALUE=DATE:20210313
DTEND;VALUE=DATE:20210314
DTSTAMP:20260422T054734
CREATED:20210311T114142Z
LAST-MODIFIED:20210311T114142Z
UID:18485-1615593600-1615679999@culttz.city.kawasaki.jp
SUMMARY:関係者のみの利用がございます
DESCRIPTION:
URL:https://culttz.city.kawasaki.jp/event/%e9%96%a2%e4%bf%82%e8%80%85%e3%81%ae%e3%81%bf%e3%81%ae%e5%88%a9%e7%94%a8%e3%81%8c%e3%81%94%e3%81%96%e3%81%84%e3%81%be%e3%81%99-409/
LOCATION:ホール
CATEGORIES:ホール
END:VEVENT
BEGIN:VEVENT
DTSTART;VALUE=DATE:20210314
DTEND;VALUE=DATE:20210315
DTSTAMP:20260422T054734
CREATED:20201217T031452Z
LAST-MODIFIED:20210311T113947Z
UID:17377-1615680000-1615766399@culttz.city.kawasaki.jp
SUMMARY:DOUBLE DUTCH CONTEST JAPAN 2021
DESCRIPTION:
URL:https://culttz.city.kawasaki.jp/event/%e9%96%a2%e4%bf%82%e8%80%85%e3%81%ae%e3%81%bf%e3%81%ae%e5%88%a9%e7%94%a8%e3%81%8c%e3%81%94%e3%81%96%e3%81%84%e3%81%be%e3%81%99-398/
LOCATION:ホール
CATEGORIES:ホール
END:VEVENT
BEGIN:VEVENT
DTSTART;VALUE=DATE:20210314
DTEND;VALUE=DATE:20210315
DTSTAMP:20260422T054734
CREATED:20201114T010959Z
LAST-MODIFIED:20210304T003818Z
UID:17067-1615680000-1615766399@culttz.city.kawasaki.jp
SUMMARY:【公演中止】◆ウィズ・ミューズシリーズ◆　第12回　石塚隆充　フラメンココンサート
DESCRIPTION:開場/13:00　開演/13:30 \n\n会場：アクトスタジオ \n全席自由
URL:https://culttz.city.kawasaki.jp/event/%e2%97%86%e3%82%a6%e3%82%a3%e3%82%ba%e3%83%bb%e3%83%9f%e3%83%a5%e3%83%bc%e3%82%ba%e3%82%b7%e3%83%aa%e3%83%bc%e3%82%ba%e2%97%86%e3%80%80%e7%ac%ac12%e5%9b%9e%e3%80%80%e7%9f%b3%e5%a1%9a%e9%9a%86%e5%85%85/
LOCATION:アクトスタジオ
CATEGORIES:アクトスタジオ
END:VEVENT
BEGIN:VEVENT
DTSTART;VALUE=DATE:20210318
DTEND;VALUE=DATE:20210319
DTSTAMP:20260422T054734
CREATED:20201217T032107Z
LAST-MODIFIED:20210308T011746Z
UID:17381-1616025600-1616111999@culttz.city.kawasaki.jp
SUMMARY:レッツ・プレイ・スタインウェイ
DESCRIPTION:
URL:https://culttz.city.kawasaki.jp/event/%e3%83%ac%e3%83%83%e3%83%84%e3%83%97%e3%83%ac%e3%82%a4%e3%82%b9%e3%82%bf%e3%82%a4%e3%83%b3%e3%82%a6%e3%82%a7%e3%82%a4-2/
LOCATION:ホール
CATEGORIES:ホール
END:VEVENT
BEGIN:VEVENT
DTSTART;VALUE=DATE:20210319
DTEND;VALUE=DATE:20210321
DTSTAMP:20260422T054734
CREATED:20201217T034915Z
LAST-MODIFIED:20210304T004016Z
UID:17392-1616112000-1616284799@culttz.city.kawasaki.jp
SUMMARY:関係者のみの利用がございます
DESCRIPTION:
URL:https://culttz.city.kawasaki.jp/event/%e9%96%a2%e4%bf%82%e8%80%85%e3%81%ae%e3%81%bf%e3%81%ae%e5%88%a9%e7%94%a8%e3%81%8c%e3%81%94%e3%81%96%e3%81%84%e3%81%be%e3%81%99-404/
LOCATION:ホール
CATEGORIES:ホール
END:VEVENT
BEGIN:VEVENT
DTSTART;VALUE=DATE:20210321
DTEND;VALUE=DATE:20210322
DTSTAMP:20260422T054734
CREATED:20201217T031934Z
LAST-MODIFIED:20210128T031739Z
UID:17379-1616284800-1616371199@culttz.city.kawasaki.jp
SUMMARY:爆生!!お笑いin川崎
DESCRIPTION:【1】10:30 開場 / 11:00 開演\n【2】13:30 開場 / 14:00 開演
URL:https://culttz.city.kawasaki.jp/event/%e9%96%a2%e4%bf%82%e8%80%85%e3%81%ae%e3%81%bf%e3%81%ae%e5%88%a9%e7%94%a8%e3%81%8c%e3%81%94%e3%81%96%e3%81%84%e3%81%be%e3%81%99-399/
LOCATION:ホール
CATEGORIES:ホール
END:VEVENT
BEGIN:VEVENT
DTSTART;VALUE=DATE:20210322
DTEND;VALUE=DATE:20210323
DTSTAMP:20260422T054734
CREATED:20201217T035002Z
LAST-MODIFIED:20210316T053937Z
UID:17394-1616371200-1616457599@culttz.city.kawasaki.jp
SUMMARY:関係者のみの利用がございます
DESCRIPTION:
URL:https://culttz.city.kawasaki.jp/event/%e9%96%a2%e4%bf%82%e8%80%85%e3%81%ae%e3%81%bf%e3%81%ae%e5%88%a9%e7%94%a8%e3%81%8c%e3%81%94%e3%81%96%e3%81%84%e3%81%be%e3%81%99-405/
LOCATION:ホール
CATEGORIES:ホール
END:VEVENT
BEGIN:VEVENT
DTSTART;VALUE=DATE:20210324
DTEND;VALUE=DATE:20210325
DTSTAMP:20260422T054734
CREATED:20201217T082803Z
LAST-MODIFIED:20210210T081948Z
UID:17400-1616544000-1616630399@culttz.city.kawasaki.jp
SUMMARY:関係者のみの利用がございます
DESCRIPTION:
URL:https://culttz.city.kawasaki.jp/event/%e9%96%a2%e4%bf%82%e8%80%85%e3%81%ae%e3%81%bf%e3%81%ae%e5%88%a9%e7%94%a8%e3%81%8c%e3%81%94%e3%81%96%e3%81%84%e3%81%be%e3%81%99-407/
LOCATION:ホール
CATEGORIES:ホール
END:VEVENT
BEGIN:VEVENT
DTSTART;VALUE=DATE:20210329
DTEND;VALUE=DATE:20210331
DTSTAMP:20260422T054734
CREATED:20201217T082730Z
LAST-MODIFIED:20210311T114256Z
UID:17398-1616976000-1617148799@culttz.city.kawasaki.jp
SUMMARY:関係者のみの利用がございます
DESCRIPTION:
URL:https://culttz.city.kawasaki.jp/event/%e9%96%a2%e4%bf%82%e8%80%85%e3%81%ae%e3%81%bf%e3%81%ae%e5%88%a9%e7%94%a8%e3%81%8c%e3%81%94%e3%81%96%e3%81%84%e3%81%be%e3%81%99-406/
LOCATION:ホール
CATEGORIES:ホール
END:VEVENT
END:VCALENDAR