BEGIN:VCALENDAR
VERSION:2.0
PRODID:-//カルッツかわさき（川崎市スポーツ・文化総合センター） - ECPv6.15.17.1//NONSGML v1.0//EN
CALSCALE:GREGORIAN
METHOD:PUBLISH
X-WR-CALNAME:カルッツかわさき（川崎市スポーツ・文化総合センター）
X-ORIGINAL-URL:https://culttz.city.kawasaki.jp
X-WR-CALDESC:カルッツかわさき（川崎市スポーツ・文化総合センター） のイベント
REFRESH-INTERVAL;VALUE=DURATION:PT1H
X-Robots-Tag:noindex
X-PUBLISHED-TTL:PT1H
BEGIN:VTIMEZONE
TZID:Asia/Tokyo
BEGIN:STANDARD
TZOFFSETFROM:+0900
TZOFFSETTO:+0900
TZNAME:JST
DTSTART:20250101T000000
END:STANDARD
END:VTIMEZONE
BEGIN:VEVENT
DTSTART;VALUE=DATE:20260708
DTEND;VALUE=DATE:20260709
DTSTAMP:20260422T015037
CREATED:20260307T053153Z
LAST-MODIFIED:20260307T053314Z
UID:44614-1783468800-1783555199@culttz.city.kawasaki.jp
SUMMARY:60th Anniversary Tour 森山良子コンサート2026 〜Life Is Beautiful〜 スペシャルゲスト・ 清水　ミチコ
DESCRIPTION:60th Anniversary Tour森山良子コンサート2026 〜Life Is Beautiful〜 スペシャルゲスト・ 清水　ミチコ
URL:https://culttz.city.kawasaki.jp/event/60th-anniversary-tour-%e6%a3%ae%e5%b1%b1%e8%89%af%e5%ad%90%e3%82%b3%e3%83%b3%e3%82%b5%e3%83%bc%e3%83%882026-%e3%80%9clife-is-beautiful%e3%80%9c-%e3%82%b9%e3%83%9a%e3%82%b7%e3%83%a3%e3%83%ab%e3%82%b2/
LOCATION:ホール
CATEGORIES:ホール
END:VEVENT
BEGIN:VEVENT
DTSTART;VALUE=DATE:20260709
DTEND;VALUE=DATE:20260710
DTSTAMP:20260422T015037
CREATED:20260310T015720Z
LAST-MODIFIED:20260310T015813Z
UID:44683-1783555200-1783641599@culttz.city.kawasaki.jp
SUMMARY:山本リンダ ６０ｔｈ Ａｎｎｉｖｅｒｓａｒｙ ＬＩＶＥ
DESCRIPTION:山本リンダ ６０ｔｈ Ａｎｎｉｖｅｒｓａｒｙ ＬＩＶＥ
URL:https://culttz.city.kawasaki.jp/event/%e5%b1%b1%e6%9c%ac%e3%83%aa%e3%83%b3%e3%83%80-%ef%bc%96%ef%bc%90%ef%bd%94%ef%bd%88-%ef%bd%81%ef%bd%8e%ef%bd%8e%ef%bd%89%ef%bd%96%ef%bd%85%ef%bd%92%ef%bd%93%ef%bd%81%ef%bd%92%ef%bd%99-%ef%bd%8c/
LOCATION:ホール
CATEGORIES:ホール
END:VEVENT
BEGIN:VEVENT
DTSTART;VALUE=DATE:20260711
DTEND;VALUE=DATE:20260712
DTSTAMP:20260422T015037
CREATED:20260109T050037Z
LAST-MODIFIED:20260109T050037Z
UID:43769-1783728000-1783814399@culttz.city.kawasaki.jp
SUMMARY:masayuki suzuki taste of martini tour 2026 Step123 season2 “70 / 40th anniversary”
DESCRIPTION:開場/17:00　開演/18:00 \nmasayuki suzuki taste of martini tour 2026Step123 season2 “70 / 40th anniversary”
URL:https://culttz.city.kawasaki.jp/event/masayuki-suzuki-taste-of-martini-tour-2026-step123-season2-70-40th-anniversary/
LOCATION:ホール
CATEGORIES:ホール
END:VEVENT
BEGIN:VEVENT
DTSTART;VALUE=DATE:20260712
DTEND;VALUE=DATE:20260713
DTSTAMP:20260422T015037
CREATED:20260109T050220Z
LAST-MODIFIED:20260109T050220Z
UID:43771-1783814400-1783900799@culttz.city.kawasaki.jp
SUMMARY:masayuki suzuki taste of martini tour 2026 Step123 season2 “70 / 40th anniversary”
DESCRIPTION:開場/16:00　開演/17:00 \nmasayuki suzuki taste of martini tour 2026Step123 season2 “70 / 40th anniversary”
URL:https://culttz.city.kawasaki.jp/event/masayuki-suzuki-taste-of-martini-tour-2026-step123-season2-70-40th-anniversary-2/
LOCATION:ホール
CATEGORIES:ホール
END:VEVENT
BEGIN:VEVENT
DTSTART;VALUE=DATE:20260718
DTEND;VALUE=DATE:20260719
DTSTAMP:20260422T015037
CREATED:20260307T053531Z
LAST-MODIFIED:20260307T053531Z
UID:44619-1784332800-1784419199@culttz.city.kawasaki.jp
SUMMARY:カルッツ落語　春風亭昇太・桂宮治　二人会
DESCRIPTION:カルッツ落語　春風亭昇太・桂宮治　二人会
URL:https://culttz.city.kawasaki.jp/event/%e3%82%ab%e3%83%ab%e3%83%83%e3%83%84%e8%90%bd%e8%aa%9e%e3%80%80%e6%98%a5%e9%a2%a8%e4%ba%ad%e6%98%87%e5%a4%aa%e3%83%bb%e6%a1%82%e5%ae%ae%e6%b2%bb%e3%80%80%e4%ba%8c%e4%ba%ba%e4%bc%9a/
LOCATION:ホール
CATEGORIES:ホール
END:VEVENT
BEGIN:VEVENT
DTSTART;VALUE=DATE:20260731
DTEND;VALUE=DATE:20260801
DTSTAMP:20260422T015037
CREATED:20260109T050423Z
LAST-MODIFIED:20260109T050423Z
UID:43773-1785456000-1785542399@culttz.city.kawasaki.jp
SUMMARY:リアル恐竜ショー　恐竜パーク
DESCRIPTION:リアル恐竜ショー　恐竜パーク
URL:https://culttz.city.kawasaki.jp/event/%e3%83%aa%e3%82%a2%e3%83%ab%e6%81%90%e7%ab%9c%e3%82%b7%e3%83%a7%e3%83%bc%e3%80%80%e6%81%90%e7%ab%9c%e3%83%91%e3%83%bc%e3%82%af/
LOCATION:ホール
CATEGORIES:ホール
END:VEVENT
END:VCALENDAR