BEGIN:VCALENDAR
VERSION:2.0
PRODID:-//カルッツかわさき（川崎市スポーツ・文化総合センター） - ECPv6.15.17.1//NONSGML v1.0//EN
CALSCALE:GREGORIAN
METHOD:PUBLISH
X-WR-CALNAME:カルッツかわさき（川崎市スポーツ・文化総合センター）
X-ORIGINAL-URL:https://culttz.city.kawasaki.jp
X-WR-CALDESC:カルッツかわさき（川崎市スポーツ・文化総合センター） のイベント
REFRESH-INTERVAL;VALUE=DURATION:PT1H
X-Robots-Tag:noindex
X-PUBLISHED-TTL:PT1H
BEGIN:VTIMEZONE
TZID:Asia/Tokyo
BEGIN:STANDARD
TZOFFSETFROM:+0900
TZOFFSETTO:+0900
TZNAME:JST
DTSTART:20250101T000000
END:STANDARD
END:VTIMEZONE
BEGIN:VEVENT
DTSTART;VALUE=DATE:20260604
DTEND;VALUE=DATE:20260605
DTSTAMP:20260422T001419
CREATED:20260123T002142Z
LAST-MODIFIED:20260123T002142Z
UID:43975-1780531200-1780617599@culttz.city.kawasaki.jp
SUMMARY:今井美樹 40th Anniversary “Our Songs!!” TOUR 2026 〜smile〜
DESCRIPTION:今井美樹 40th Anniversary “Our Songs!!” TOUR 2026 〜smile〜
URL:https://culttz.city.kawasaki.jp/event/%e4%bb%8a%e4%ba%95%e7%be%8e%e6%a8%b9-40th-anniversary-our-songs-tour-2026-%e3%80%9csmile%e3%80%9c/
LOCATION:ホール
CATEGORIES:ホール
END:VEVENT
BEGIN:VEVENT
DTSTART;VALUE=DATE:20260612
DTEND;VALUE=DATE:20260613
DTSTAMP:20260422T001419
CREATED:20260315T032304Z
LAST-MODIFIED:20260315T032304Z
UID:44761-1781222400-1781308799@culttz.city.kawasaki.jp
SUMMARY:森山直太朗 Two jobs tour 2025〜26『あの世でね』 〜「弓弦葉」と「Yeeeehaaaaw!」〜
DESCRIPTION:森山直太朗 Two jobs tour 2025〜26『あの世でね』〜「弓弦葉」と「Yeeeehaaaaw!」〜
URL:https://culttz.city.kawasaki.jp/event/%e6%a3%ae%e5%b1%b1%e7%9b%b4%e5%a4%aa%e6%9c%97-two-jobs-tour-2025%e3%80%9c26%e3%80%8e%e3%81%82%e3%81%ae%e4%b8%96%e3%81%a7%e3%81%ad%e3%80%8f-%e3%80%9c%e3%80%8c%e5%bc%93%e5%bc%a6%e8%91%89%e3%80%8d/
LOCATION:ホール
CATEGORIES:ホール
END:VEVENT
BEGIN:VEVENT
DTSTART;VALUE=DATE:20260613
DTEND;VALUE=DATE:20260614
DTSTAMP:20260422T001419
CREATED:20260109T045809Z
LAST-MODIFIED:20260109T045809Z
UID:43767-1781308800-1781395199@culttz.city.kawasaki.jp
SUMMARY:ハラミちゃん47都道府県ピアノツアー 〜旅するピアノと47の出会い〜
DESCRIPTION:開場/15:00　開演/16:00 \nハラミちゃん47都道府県ピアノツアー 〜旅するピアノと47の出会い〜
URL:https://culttz.city.kawasaki.jp/event/%e3%83%8f%e3%83%a9%e3%83%9f%e3%81%a1%e3%82%83%e3%82%9347%e9%83%bd%e9%81%93%e5%ba%9c%e7%9c%8c%e3%83%94%e3%82%a2%e3%83%8e%e3%83%84%e3%82%a2%e3%83%bc-%e3%80%9c%e6%97%85%e3%81%99%e3%82%8b%e3%83%94/
LOCATION:ホール
CATEGORIES:ホール
END:VEVENT
BEGIN:VEVENT
DTSTART;VALUE=DATE:20260619
DTEND;VALUE=DATE:20260620
DTSTAMP:20260422T001419
CREATED:20260307T052538Z
LAST-MODIFIED:20260307T052538Z
UID:44610-1781827200-1781913599@culttz.city.kawasaki.jp
SUMMARY:◆ウィズ･ミュｰズシリｰズ◆ 　第51回　菅沼聖隆　ギター・リサイタル
DESCRIPTION:◆ウィズ･ミュｰズシリｰズ◆ 　第51回　菅沼聖隆　ギター・リサイタル
URL:https://culttz.city.kawasaki.jp/event/%e2%97%86%e3%82%a6%e3%82%a3%e3%82%ba%ef%bd%a5%e3%83%9f%e3%83%a5%ef%bd%b0%e3%82%ba%e3%82%b7%e3%83%aa%ef%bd%b0%e3%82%ba%e2%97%86-%e3%80%80%e7%ac%ac51%e5%9b%9e%e3%80%80%e8%8f%85%e6%b2%bc%e8%81%96/
LOCATION:ホール
CATEGORIES:ホール
END:VEVENT
BEGIN:VEVENT
DTSTART;VALUE=DATE:20260621
DTEND;VALUE=DATE:20260622
DTSTAMP:20260422T001419
CREATED:20260315T032643Z
LAST-MODIFIED:20260315T032643Z
UID:44763-1782000000-1782086399@culttz.city.kawasaki.jp
SUMMARY:しまじろうコンサート 「しまじろうと　おかしのくにの　ハッピーパーティー」
DESCRIPTION:しまじろうコンサート 「しまじろうと　おかしのくにの　ハッピーパーティー」　
URL:https://culttz.city.kawasaki.jp/event/%e3%81%97%e3%81%be%e3%81%98%e3%82%8d%e3%81%86%e3%82%b3%e3%83%b3%e3%82%b5%e3%83%bc%e3%83%88-%e3%80%8c%e3%81%97%e3%81%be%e3%81%98%e3%82%8d%e3%81%86%e3%81%a8%e3%80%80%e3%81%8a%e3%81%8b%e3%81%97%e3%81%ae/
LOCATION:ホール
CATEGORIES:ホール
END:VEVENT
END:VCALENDAR