BEGIN:VCALENDAR
VERSION:2.0
PRODID:-//カルッツかわさき（川崎市スポーツ・文化総合センター） - ECPv6.15.17.1//NONSGML v1.0//EN
CALSCALE:GREGORIAN
METHOD:PUBLISH
X-ORIGINAL-URL:https://culttz.city.kawasaki.jp
X-WR-CALDESC:カルッツかわさき（川崎市スポーツ・文化総合センター） のイベント
REFRESH-INTERVAL;VALUE=DURATION:PT1H
X-Robots-Tag:noindex
X-PUBLISHED-TTL:PT1H
BEGIN:VTIMEZONE
TZID:Asia/Tokyo
BEGIN:STANDARD
TZOFFSETFROM:+0900
TZOFFSETTO:+0900
TZNAME:JST
DTSTART:20250101T000000
END:STANDARD
END:VTIMEZONE
BEGIN:VEVENT
DTSTART;VALUE=DATE:20260502
DTEND;VALUE=DATE:20260503
DTSTAMP:20260421T224418
CREATED:20260329T065737Z
LAST-MODIFIED:20260404T014918Z
UID:44971-1777680000-1777766399@culttz.city.kawasaki.jp
SUMMARY:横浜国立大学管弦楽団第126回定期演奏会
DESCRIPTION:開場　12:45 開演　13:30 \nhttps://www.ynuorch.com/concert.html
URL:https://culttz.city.kawasaki.jp/event/%e6%a8%aa%e6%b5%9c%e5%9b%bd%e7%ab%8b%e5%a4%a7%e5%ad%a6%e7%ae%a1%e5%bc%a6%e6%a5%bd%e5%9b%a3%e7%ac%ac126%e5%9b%9e%e5%ae%9a%e6%9c%9f%e6%bc%94%e5%a5%8f%e4%bc%9a/
LOCATION:ホール
CATEGORIES:ホール
END:VEVENT
BEGIN:VEVENT
DTSTART;VALUE=DATE:20260505
DTEND;VALUE=DATE:20260506
DTSTAMP:20260421T224418
CREATED:20260413T102438Z
LAST-MODIFIED:20260413T103300Z
UID:45358-1777939200-1778025599@culttz.city.kawasaki.jp
SUMMARY:ギャルフェス 2026
DESCRIPTION:ギャルフェス 2026
URL:https://culttz.city.kawasaki.jp/event/%e3%82%ae%e3%83%a3%e3%83%ab%e3%83%95%e3%82%a7%e3%82%b9-2026/
LOCATION:ホール
CATEGORIES:ホール
END:VEVENT
BEGIN:VEVENT
DTSTART;VALUE=DATE:20260509
DTEND;VALUE=DATE:20260510
DTSTAMP:20260421T224418
CREATED:20260128T082610Z
LAST-MODIFIED:20260128T082610Z
UID:44071-1778284800-1778371199@culttz.city.kawasaki.jp
SUMMARY:かわさき吹奏楽まつり　～今年の最新課題曲から往年の自由曲、小編成まで！～
DESCRIPTION:かわさき吹奏楽まつり　～今年の最新課題曲から往年の自由曲、小編成まで！～
URL:https://culttz.city.kawasaki.jp/event/%e3%81%8b%e3%82%8f%e3%81%95%e3%81%8d%e5%90%b9%e5%a5%8f%e6%a5%bd%e3%81%be%e3%81%a4%e3%82%8a%e3%80%80%ef%bd%9e%e4%bb%8a%e5%b9%b4%e3%81%ae%e6%9c%80%e6%96%b0%e8%aa%b2%e9%a1%8c%e6%9b%b2%e3%81%8b%e3%82%89-3/
LOCATION:ホール
CATEGORIES:ホール
END:VEVENT
BEGIN:VEVENT
DTSTART;VALUE=DATE:20260513
DTEND;VALUE=DATE:20260514
DTSTAMP:20260421T224418
CREATED:20260402T080649Z
LAST-MODIFIED:20260402T082939Z
UID:45036-1778630400-1778716799@culttz.city.kawasaki.jp
SUMMARY:高橋優 15th ANNIVERSARY SPECIAL LIVE TOUR 2025-2026
DESCRIPTION:高橋優 15th ANNIVERSARY SPECIAL LIVE TOUR 2025-2026「自由たる覚悟、然として奏ず」
URL:https://culttz.city.kawasaki.jp/event/%e9%ab%98%e6%a9%8b%e5%84%aa-15th-anniversary-special-live-tour-2025-2026/
LOCATION:ホール
CATEGORIES:ホール
END:VEVENT
BEGIN:VEVENT
DTSTART;VALUE=DATE:20260516
DTEND;VALUE=DATE:20260517
DTSTAMP:20260421T224418
CREATED:20260307T052224Z
LAST-MODIFIED:20260307T052224Z
UID:44608-1778889600-1778975999@culttz.city.kawasaki.jp
SUMMARY:高橋李依 2nd ワンマンライブ A Rie in Wonderland
DESCRIPTION:高橋李依 2nd ワンマンライブ A Rie in Wonderland
URL:https://culttz.city.kawasaki.jp/event/%e9%ab%98%e6%a9%8b%e6%9d%8e%e4%be%9d-2nd-%e3%83%af%e3%83%b3%e3%83%9e%e3%83%b3%e3%83%a9%e3%82%a4%e3%83%96-a-rie-in-wonderland/
LOCATION:ホール
CATEGORIES:ホール
END:VEVENT
BEGIN:VEVENT
DTSTART;VALUE=DATE:20260517
DTEND;VALUE=DATE:20260518
DTSTAMP:20260421T224418
CREATED:20260109T045700Z
LAST-MODIFIED:20260109T045700Z
UID:43765-1778976000-1779062399@culttz.city.kawasaki.jp
SUMMARY:松平健・コロッケ ★ エンタメ魂
DESCRIPTION:①12:30開場　13:00開演\n②16:30開場　17:00開演 \n松平健・コロッケ ★ エンタメ魂
URL:https://culttz.city.kawasaki.jp/event/%e6%9d%be%e5%b9%b3%e5%81%a5%e3%83%bb%e3%82%b3%e3%83%ad%e3%83%83%e3%82%b1-%e2%98%85-%e3%82%a8%e3%83%b3%e3%82%bf%e3%83%a1%e9%ad%82/
LOCATION:ホール
CATEGORIES:ホール
END:VEVENT
BEGIN:VEVENT
DTSTART;VALUE=DATE:20260521
DTEND;VALUE=DATE:20260522
DTSTAMP:20260421T224418
CREATED:20260421T072114Z
LAST-MODIFIED:20260421T072114Z
UID:45455-1779321600-1779407999@culttz.city.kawasaki.jp
SUMMARY:レッツ・プレイ・スタインウェイ
DESCRIPTION:レッツ・プレイ・スタインウェイ(2026/05/21)
URL:https://culttz.city.kawasaki.jp/event/%e3%83%ac%e3%83%83%e3%83%84%e3%83%bb%e3%83%97%e3%83%ac%e3%82%a4%e3%83%bb%e3%82%b9%e3%82%bf%e3%82%a4%e3%83%b3%e3%82%a6%e3%82%a7%e3%82%a4-52/
LOCATION:ホール
CATEGORIES:ホール
END:VEVENT
BEGIN:VEVENT
DTSTART;VALUE=DATE:20260523
DTEND;VALUE=DATE:20260524
DTSTAMP:20260421T224418
CREATED:20260403T014429Z
LAST-MODIFIED:20260403T014814Z
UID:45051-1779494400-1779580799@culttz.city.kawasaki.jp
SUMMARY:葉加瀬太郎 オーケストラコンサート 2026 〜The Symphonic Sessions〜
DESCRIPTION:葉加瀬太郎 オーケストラコンサート 2026 〜The Symphonic Sessions〜 – 葉加瀬太郎オフィシャルサイト
URL:https://culttz.city.kawasaki.jp/event/%e8%91%89%e5%8a%a0%e7%80%ac%e5%a4%aa%e9%83%8e-%e3%82%aa%e3%83%bc%e3%82%b1%e3%82%b9%e3%83%88%e3%83%a9%e3%82%b3%e3%83%b3%e3%82%b5%e3%83%bc%e3%83%88-2026-%e3%80%9cthe-symphonic-sessions%e3%80%9c/
LOCATION:ホール
CATEGORIES:ホール
END:VEVENT
BEGIN:VEVENT
DTSTART;VALUE=DATE:20260524
DTEND;VALUE=DATE:20260525
DTSTAMP:20260421T224418
CREATED:20260403T014518Z
LAST-MODIFIED:20260403T014707Z
UID:45053-1779580800-1779667199@culttz.city.kawasaki.jp
SUMMARY:葉加瀬太郎 オーケストラコンサート 2026 〜The Symphonic Sessions〜
DESCRIPTION:葉加瀬太郎 オーケストラコンサート 2026 〜The Symphonic Sessions〜 – 葉加瀬太郎オフィシャルサイト
URL:https://culttz.city.kawasaki.jp/event/%e8%91%89%e5%8a%a0%e7%80%ac%e5%a4%aa%e9%83%8e-%e3%82%aa%e3%83%bc%e3%82%b1%e3%82%b9%e3%83%88%e3%83%a9%e3%82%b3%e3%83%b3%e3%82%b5%e3%83%bc%e3%83%88-2026-%e3%80%9cthe-symphonic-sessions%e3%80%9c-2/
LOCATION:ホール
CATEGORIES:ホール
END:VEVENT
BEGIN:VEVENT
DTSTART;VALUE=DATE:20260525
DTEND;VALUE=DATE:20260526
DTSTAMP:20260421T224418
CREATED:20260403T013552Z
LAST-MODIFIED:20260403T015155Z
UID:45046-1779667200-1779753599@culttz.city.kawasaki.jp
SUMMARY:松任谷由実 THE WORMHOLE TOUR 2025-26
DESCRIPTION:スケジュール | Kyodo YOKOHAMA
URL:https://culttz.city.kawasaki.jp/event/%e6%9d%be%e4%bb%bb%e8%b0%b7%e7%94%b1%e5%ae%9f-the-wormhole-tour-2025-26/
LOCATION:ホール
CATEGORIES:ホール
END:VEVENT
BEGIN:VEVENT
DTSTART;VALUE=DATE:20260526
DTEND;VALUE=DATE:20260527
DTSTAMP:20260421T224418
CREATED:20260403T013931Z
LAST-MODIFIED:20260403T015120Z
UID:45049-1779753600-1779839999@culttz.city.kawasaki.jp
SUMMARY:松任谷由実 THE WORMHOLE TOUR 2025-26
DESCRIPTION:スケジュール | Kyodo YOKOHAMA
URL:https://culttz.city.kawasaki.jp/event/%e6%9d%be%e4%bb%bb%e8%b0%b7%e7%94%b1%e5%ae%9f-the-wormhole-tour-2025-26-2/
LOCATION:ホール
CATEGORIES:ホール
END:VEVENT
END:VCALENDAR