BEGIN:VCALENDAR
VERSION:2.0
PRODID:-//カルッツかわさき（川崎市スポーツ・文化総合センター） - ECPv6.15.17.1//NONSGML v1.0//EN
CALSCALE:GREGORIAN
METHOD:PUBLISH
X-WR-CALNAME:カルッツかわさき（川崎市スポーツ・文化総合センター）
X-ORIGINAL-URL:https://culttz.city.kawasaki.jp
X-WR-CALDESC:カルッツかわさき（川崎市スポーツ・文化総合センター） のイベント
REFRESH-INTERVAL;VALUE=DURATION:PT1H
X-Robots-Tag:noindex
X-PUBLISHED-TTL:PT1H
BEGIN:VTIMEZONE
TZID:Asia/Tokyo
BEGIN:STANDARD
TZOFFSETFROM:+0900
TZOFFSETTO:+0900
TZNAME:JST
DTSTART:20200101T000000
END:STANDARD
END:VTIMEZONE
BEGIN:VEVENT
DTSTART;VALUE=DATE:20220227
DTEND;VALUE=DATE:20220228
DTSTAMP:20260425T111202
CREATED:20220118T102110Z
LAST-MODIFIED:20220118T102204Z
UID:21862-1645920000-1646006399@culttz.city.kawasaki.jp
SUMMARY:横浜ブラスオルケスター　第23回定期演奏会
DESCRIPTION:開場/１２：４５（予定）\n開演/１３：３０（予定） \n指揮：近藤  久敦　（音楽監督）\nゲスト：Trumpet  本間千也（東京佼成ウインドオーケストラ） \n  \n【I部】 \n吹奏楽のための序章『ラッシュモア』 / A.リード \nバッハザイツ〜シャコンヌの主題による3つの幻想 / J.シュテルト \n〜Trumpet奏者 本間千也 氏を迎えて〜\nトランペット協奏曲 op.100c / 酒井格 \n  \n【Ⅱ部】 \n祝典序曲 op.96 / D.ショスタコーヴィッチ \n歌劇「イーゴリ公」より− ダッタン人の踊り / A.ボロディン \n交響曲第5番 ニ短調 op.47 『革命』より第4楽章/ D.ショスタコーヴィッチ \n  \n＜チケット＞\n以下チケット購入サイトにてご購入いただけます。 \nhttps://teket.jp/2092/8427
URL:https://culttz.city.kawasaki.jp/event/%e6%a8%aa%e6%b5%9c%e3%83%96%e3%83%a9%e3%82%b9%e3%82%aa%e3%83%ab%e3%82%b1%e3%82%b9%e3%82%bf%e3%83%bc%e3%80%80%e7%ac%ac23%e5%9b%9e%e5%ae%9a%e6%9c%9f%e6%bc%94%e5%a5%8f%e4%bc%9a/
LOCATION:ホール
CATEGORIES:ホール
END:VEVENT
BEGIN:VEVENT
DTSTART;VALUE=DATE:20220225
DTEND;VALUE=DATE:20220227
DTSTAMP:20260425T111202
CREATED:20220118T100750Z
LAST-MODIFIED:20220118T100750Z
UID:21858-1645747200-1645919999@culttz.city.kawasaki.jp
SUMMARY:関係者のみの利用がございます
DESCRIPTION:
URL:https://culttz.city.kawasaki.jp/event/%e9%96%a2%e4%bf%82%e8%80%85%e3%81%ae%e3%81%bf%e3%81%ae%e5%88%a9%e7%94%a8%e3%81%8c%e3%81%94%e3%81%96%e3%81%84%e3%81%be%e3%81%99-481/
LOCATION:ホール
CATEGORIES:ホール
END:VEVENT
BEGIN:VEVENT
DTSTART;VALUE=DATE:20220223
DTEND;VALUE=DATE:20220224
DTSTAMP:20260425T111202
CREATED:20220118T071118Z
LAST-MODIFIED:20220220T001723Z
UID:21824-1645574400-1645660799@culttz.city.kawasaki.jp
SUMMARY:第4回かわさき新人声楽コンクール（本選審査会）
DESCRIPTION:開場/12:30　開始/13:00 \n第4回かわさき新人声楽コンクール（本選審査会）
URL:https://culttz.city.kawasaki.jp/event/%e7%ac%ac4%e5%9b%9e%e3%81%8b%e3%82%8f%e3%81%95%e3%81%8d%e6%96%b0%e4%ba%ba%e5%a3%b0%e6%a5%bd%e3%82%b3%e3%83%b3%e3%82%af%e3%83%bc%e3%83%ab%ef%bc%88%e6%9c%ac%e9%81%b8%e5%af%a9%e6%9f%bb%e4%bc%9a%ef%bc%89/
LOCATION:ホール
CATEGORIES:ホール
END:VEVENT
BEGIN:VEVENT
DTSTART;VALUE=DATE:20220222
DTEND;VALUE=DATE:20220223
DTSTAMP:20260425T111202
CREATED:20220118T100720Z
LAST-MODIFIED:20220118T100720Z
UID:21856-1645488000-1645574399@culttz.city.kawasaki.jp
SUMMARY:関係者のみの利用がございます
DESCRIPTION:
URL:https://culttz.city.kawasaki.jp/event/%e9%96%a2%e4%bf%82%e8%80%85%e3%81%ae%e3%81%bf%e3%81%ae%e5%88%a9%e7%94%a8%e3%81%8c%e3%81%94%e3%81%96%e3%81%84%e3%81%be%e3%81%99-480/
LOCATION:ホール
CATEGORIES:ホール
END:VEVENT
BEGIN:VEVENT
DTSTART;VALUE=DATE:20220221
DTEND;VALUE=DATE:20220222
DTSTAMP:20260425T111202
CREATED:20220118T100652Z
LAST-MODIFIED:20220118T100652Z
UID:21854-1645401600-1645487999@culttz.city.kawasaki.jp
SUMMARY:関係者のみの利用がございます
DESCRIPTION:
URL:https://culttz.city.kawasaki.jp/event/%e9%96%a2%e4%bf%82%e8%80%85%e3%81%ae%e3%81%bf%e3%81%ae%e5%88%a9%e7%94%a8%e3%81%8c%e3%81%94%e3%81%96%e3%81%84%e3%81%be%e3%81%99-479/
LOCATION:ホール
CATEGORIES:ホール
END:VEVENT
BEGIN:VEVENT
DTSTART;VALUE=DATE:20220218
DTEND;VALUE=DATE:20220219
DTSTAMP:20260425T111202
CREATED:20220118T070837Z
LAST-MODIFIED:20220123T073757Z
UID:21822-1645142400-1645228799@culttz.city.kawasaki.jp
SUMMARY:レッツ・プレイ・スタインウェイ
DESCRIPTION:
URL:https://culttz.city.kawasaki.jp/event/%e3%83%ac%e3%83%83%e3%83%84%e3%83%bb%e3%83%97%e3%83%ac%e3%82%a4%e3%83%bb%e3%82%b9%e3%82%bf%e3%82%a4%e3%83%b3%e3%82%a6%e3%82%a7%e3%82%a4-14/
LOCATION:ホール
CATEGORIES:ホール
END:VEVENT
BEGIN:VEVENT
DTSTART;VALUE=DATE:20220214
DTEND;VALUE=DATE:20220217
DTSTAMP:20260425T111202
CREATED:20220118T100106Z
LAST-MODIFIED:20220118T100106Z
UID:21837-1644796800-1645055999@culttz.city.kawasaki.jp
SUMMARY:保守点検日
DESCRIPTION:
URL:https://culttz.city.kawasaki.jp/event/%e4%bf%9d%e5%ae%88%e7%82%b9%e6%a4%9c%e6%97%a5-3/
LOCATION:ホール
CATEGORIES:ホール
END:VEVENT
BEGIN:VEVENT
DTSTART;VALUE=DATE:20220213
DTEND;VALUE=DATE:20220214
DTSTAMP:20260425T111202
CREATED:20220118T095917Z
LAST-MODIFIED:20220123T084809Z
UID:21835-1644710400-1644796799@culttz.city.kawasaki.jp
SUMMARY:マッスルコンテスト東京
DESCRIPTION:開場開始　10:15　※\n競技開始　10:45　※\n※開場・開演時間は予定です。変更になる場合もございます。\nhttps://t.livepocket.jp/e/l6_0- \n 
URL:https://culttz.city.kawasaki.jp/event/%e3%83%9e%e3%83%83%e3%82%b9%e3%83%ab%e3%82%b3%e3%83%b3%e3%83%86%e3%82%b9%e3%83%88%e6%9d%b1%e4%ba%ac/
LOCATION:ホール
CATEGORIES:ホール
END:VEVENT
BEGIN:VEVENT
DTSTART;VALUE=DATE:20220212
DTEND;VALUE=DATE:20220213
DTSTAMP:20260425T111202
CREATED:20220118T100259Z
LAST-MODIFIED:20220118T100259Z
UID:21841-1644624000-1644710399@culttz.city.kawasaki.jp
SUMMARY:関係者のみの利用がございます
DESCRIPTION:
URL:https://culttz.city.kawasaki.jp/event/%e9%96%a2%e4%bf%82%e8%80%85%e3%81%ae%e3%81%bf%e3%81%ae%e5%88%a9%e7%94%a8%e3%81%8c%e3%81%94%e3%81%96%e3%81%84%e3%81%be%e3%81%99-473/
LOCATION:ホール
CATEGORIES:ホール
END:VEVENT
BEGIN:VEVENT
DTSTART;VALUE=DATE:20220211
DTEND;VALUE=DATE:20220212
DTSTAMP:20260425T111202
CREATED:20220118T100612Z
LAST-MODIFIED:20220118T100612Z
UID:21852-1644537600-1644623999@culttz.city.kawasaki.jp
SUMMARY:関係者のみの利用がございます
DESCRIPTION:
URL:https://culttz.city.kawasaki.jp/event/%e9%96%a2%e4%bf%82%e8%80%85%e3%81%ae%e3%81%bf%e3%81%ae%e5%88%a9%e7%94%a8%e3%81%8c%e3%81%94%e3%81%96%e3%81%84%e3%81%be%e3%81%99-478/
LOCATION:ホール
CATEGORIES:ホール
END:VEVENT
BEGIN:VEVENT
DTSTART;VALUE=DATE:20220207
DTEND;VALUE=DATE:20220208
DTSTAMP:20260425T111202
CREATED:20220118T100549Z
LAST-MODIFIED:20220118T100549Z
UID:21850-1644192000-1644278399@culttz.city.kawasaki.jp
SUMMARY:関係者のみの利用がございます
DESCRIPTION:
URL:https://culttz.city.kawasaki.jp/event/%e9%96%a2%e4%bf%82%e8%80%85%e3%81%ae%e3%81%bf%e3%81%ae%e5%88%a9%e7%94%a8%e3%81%8c%e3%81%94%e3%81%96%e3%81%84%e3%81%be%e3%81%99-477/
LOCATION:ホール
CATEGORIES:ホール
END:VEVENT
BEGIN:VEVENT
DTSTART;VALUE=DATE:20220204
DTEND;VALUE=DATE:20220205
DTSTAMP:20260425T111202
CREATED:20220118T100520Z
LAST-MODIFIED:20220118T100520Z
UID:21848-1643932800-1644019199@culttz.city.kawasaki.jp
SUMMARY:関係者のみの利用がございます
DESCRIPTION:
URL:https://culttz.city.kawasaki.jp/event/%e9%96%a2%e4%bf%82%e8%80%85%e3%81%ae%e3%81%bf%e3%81%ae%e5%88%a9%e7%94%a8%e3%81%8c%e3%81%94%e3%81%96%e3%81%84%e3%81%be%e3%81%99-476/
LOCATION:ホール
CATEGORIES:ホール
END:VEVENT
BEGIN:VEVENT
DTSTART;VALUE=DATE:20220203
DTEND;VALUE=DATE:20220204
DTSTAMP:20260425T111202
CREATED:20220118T100425Z
LAST-MODIFIED:20220118T100425Z
UID:21845-1643846400-1643932799@culttz.city.kawasaki.jp
SUMMARY:関係者のみの利用がございます
DESCRIPTION:
URL:https://culttz.city.kawasaki.jp/event/%e9%96%a2%e4%bf%82%e8%80%85%e3%81%ae%e3%81%bf%e3%81%ae%e5%88%a9%e7%94%a8%e3%81%8c%e3%81%94%e3%81%96%e3%81%84%e3%81%be%e3%81%99-475/
LOCATION:ホール
CATEGORIES:ホール
END:VEVENT
BEGIN:VEVENT
DTSTART;VALUE=DATE:20220123
DTEND;VALUE=DATE:20220124
DTSTAMP:20260425T111202
CREATED:20211219T053905Z
LAST-MODIFIED:20211219T053905Z
UID:21608-1642896000-1642982399@culttz.city.kawasaki.jp
SUMMARY:東芝吹奏楽団　第２７回定期演奏会
DESCRIPTION:開場：12：30 \n開演：13：30 \n終演：15：30 \n 
URL:https://culttz.city.kawasaki.jp/event/%e6%9d%b1%e8%8a%9d%e5%90%b9%e5%a5%8f%e6%a5%bd%e5%9b%a3%e3%80%80%e7%ac%ac%ef%bc%92%ef%bc%97%e5%9b%9e%e5%ae%9a%e6%9c%9f%e6%bc%94%e5%a5%8f%e4%bc%9a/
LOCATION:ホール
CATEGORIES:ホール
END:VEVENT
BEGIN:VEVENT
DTSTART;VALUE=DATE:20220115
DTEND;VALUE=DATE:20220116
DTSTAMP:20260425T111202
CREATED:20211220T054527Z
LAST-MODIFIED:20220123T073730Z
UID:21628-1642204800-1642291199@culttz.city.kawasaki.jp
SUMMARY:2022川崎フロンターレ新体制発表会見inカルッツかわさき
DESCRIPTION:15:00～18:30（14:00開場） \n問合せ：川崎フロンターレ　TEL 0570-000-565（月～金／10:00～18:00　※土日祝を除く）
URL:https://culttz.city.kawasaki.jp/event/2022%e5%b7%9d%e5%b4%8e%e3%83%95%e3%83%ad%e3%83%b3%e3%82%bf%e3%83%bc%e3%83%ac%e6%96%b0%e4%bd%93%e5%88%b6%e7%99%ba%e8%a1%a8%e4%bc%9a%e8%a6%8bin%e3%82%ab%e3%83%ab%e3%83%83%e3%83%84%e3%81%8b%e3%82%8f/
LOCATION:ホール
CATEGORIES:ホール
END:VEVENT
BEGIN:VEVENT
DTSTART;VALUE=DATE:20211231
DTEND;VALUE=DATE:20220101
DTSTAMP:20260425T111202
CREATED:20211006T042826Z
LAST-MODIFIED:20211015T062531Z
UID:20768-1640908800-1640995199@culttz.city.kawasaki.jp
SUMMARY:【文化庁 子供文化芸術活動支援事業】  ジルベスター　バレエ　シンデレラ
DESCRIPTION:開場/13:00　開演/14:00
URL:https://culttz.city.kawasaki.jp/event/%e3%80%90%e6%96%87%e5%8c%96%e5%ba%81-%e5%ad%90%e4%be%9b%e6%96%87%e5%8c%96%e8%8a%b8%e8%a1%93%e6%b4%bb%e5%8b%95%e6%94%af%e6%8f%b4%e4%ba%8b%e6%a5%ad%e3%80%91-%e3%82%b8%e3%83%ab%e3%83%99%e3%82%b9/
LOCATION:ホール
CATEGORIES:ホール
END:VEVENT
BEGIN:VEVENT
DTSTART;VALUE=DATE:20211228
DTEND;VALUE=DATE:20211229
DTSTAMP:20260425T111202
CREATED:20211205T064318Z
LAST-MODIFIED:20211205T064355Z
UID:21545-1640649600-1640735999@culttz.city.kawasaki.jp
SUMMARY:横浜国立大学吹奏楽団第38回定期演奏会
DESCRIPTION:○開場：16:45\n○開演：17:30 \n詳細は下記を参照ください。 \nhttp://ynusb.ciao.jp/
URL:https://culttz.city.kawasaki.jp/event/%e6%a8%aa%e6%b5%9c%e5%9b%bd%e7%ab%8b%e5%a4%a7%e5%ad%a6%e5%90%b9%e5%a5%8f%e6%a5%bd%e5%9b%a3%e7%ac%ac38%e5%9b%9e%e5%ae%9a%e6%9c%9f%e6%bc%94%e5%a5%8f%e4%bc%9a/
LOCATION:ホール
CATEGORIES:ホール
END:VEVENT
BEGIN:VEVENT
DTSTART;VALUE=DATE:20211226
DTEND;VALUE=DATE:20211227
DTSTAMP:20260425T111202
CREATED:20211205T063812Z
LAST-MODIFIED:20211205T063812Z
UID:21543-1640476800-1640563199@culttz.city.kawasaki.jp
SUMMARY:Naniwo Wind Orchestra 第11回定期演奏会
DESCRIPTION:13:00開場／13:30開演 \n詳細は下記を参照ください。 \nhttps://sites.google.com/view/naniwo2021/
URL:https://culttz.city.kawasaki.jp/event/naniwo-wind-orchestra-%e7%ac%ac11%e5%9b%9e%e5%ae%9a%e6%9c%9f%e6%bc%94%e5%a5%8f%e4%bc%9a/
LOCATION:ホール
CATEGORIES:ホール
END:VEVENT
BEGIN:VEVENT
DTSTART;VALUE=DATE:20211225
DTEND;VALUE=DATE:20211226
DTSTAMP:20260425T111202
CREATED:20211006T042650Z
LAST-MODIFIED:20211219T043804Z
UID:20766-1640390400-1640476799@culttz.city.kawasaki.jp
SUMMARY:神奈川フィルハーモニー管弦楽団　オーケストラと歌で綴るヴィクトル・ユゴーの劇世界
DESCRIPTION:開場/16:15　開演/17:00
URL:https://culttz.city.kawasaki.jp/event/%e7%a5%9e%e5%a5%88%e5%b7%9d%e3%83%95%e3%82%a3%e3%83%ab%e3%83%8f%e3%83%bc%e3%83%a2%e3%83%8b%e3%83%bc%e7%ae%a1%e5%bc%a6%e6%a5%bd%e5%9b%a3%e3%80%80%e9%9f%b3%e6%a5%bd%e5%8a%87%e3%81%ab%e3%82%88%e3%82%8b/
LOCATION:ホール
CATEGORIES:ホール
END:VEVENT
BEGIN:VEVENT
DTSTART;VALUE=DATE:20211221
DTEND;VALUE=DATE:20211223
DTSTAMP:20260425T111202
CREATED:20211205T075721Z
LAST-MODIFIED:20211205T075721Z
UID:21558-1640044800-1640217599@culttz.city.kawasaki.jp
SUMMARY:関係者のみの利用がございます
DESCRIPTION:
URL:https://culttz.city.kawasaki.jp/event/%e9%96%a2%e4%bf%82%e8%80%85%e3%81%ae%e3%81%bf%e3%81%ae%e5%88%a9%e7%94%a8%e3%81%8c%e3%81%94%e3%81%96%e3%81%84%e3%81%be%e3%81%99-469/
LOCATION:ホール
CATEGORIES:ホール
END:VEVENT
BEGIN:VEVENT
DTSTART;VALUE=DATE:20211220
DTEND;VALUE=DATE:20211221
DTSTAMP:20260425T111202
CREATED:20210924T021610Z
LAST-MODIFIED:20210924T021610Z
UID:20532-1639958400-1640044799@culttz.city.kawasaki.jp
SUMMARY:レッツ・プレイ・スタインウェイ
DESCRIPTION:
URL:https://culttz.city.kawasaki.jp/event/%e3%83%ac%e3%83%83%e3%83%84%e3%83%bb%e3%83%97%e3%83%ac%e3%82%a4%e3%83%bb%e3%82%b9%e3%82%bf%e3%82%a4%e3%83%b3%e3%82%a6%e3%82%a7%e3%82%a4-12/
LOCATION:ホール
CATEGORIES:ホール
END:VEVENT
BEGIN:VEVENT
DTSTART;VALUE=DATE:20211219
DTEND;VALUE=DATE:20211220
DTSTAMP:20260425T111202
CREATED:20211205T052928Z
LAST-MODIFIED:20211205T052928Z
UID:21531-1639872000-1639958399@culttz.city.kawasaki.jp
SUMMARY:かわさきピアノコンクール　本選
DESCRIPTION:・開場　　 9：45～\n・開演　　10：00～ \n詳細は下記を参照ください。 \nhttps://kawasaki-piano.jp/2021/12/03/post-1050/
URL:https://culttz.city.kawasaki.jp/event/%e3%81%8b%e3%82%8f%e3%81%95%e3%81%8d%e3%83%94%e3%82%a2%e3%83%8e%e3%82%b3%e3%83%b3%e3%82%af%e3%83%bc%e3%83%ab%e3%80%80%e6%9c%ac%e9%81%b8/
LOCATION:ホール
CATEGORIES:ホール
END:VEVENT
BEGIN:VEVENT
DTSTART;VALUE=DATE:20211218
DTEND;VALUE=DATE:20211219
DTSTAMP:20260425T111202
CREATED:20211202T051044Z
LAST-MODIFIED:20211202T051044Z
UID:21521-1639785600-1639871999@culttz.city.kawasaki.jp
SUMMARY:グラールウインドオーケストラ　ウインターコンサート Vol.20
DESCRIPTION:開場/13:20　開演/14:00 \n開演前13:30頃よりウェルカムコンサートを行います。\n入場無料(ご予約は不要です)\n※未就学児童の入場不可 \n指揮：佐川聖二　瀬尾宗利 \n【プログラム】\n第六の幸福をもたらす宿 (M.アーノルド)\n誰も寝てはならぬ～歌劇「トゥーランドット」より (G.プッチーニ)\nヴィヴァ・ムジカ！ (A.リード)\n「風の谷のナウシカ」Highlights\n吹奏楽による「ドラゴンクエスト」より「序曲」\n鬼滅の刃メドレー\nほか \n●お問合せ・・演奏会事務局＜info@gwo.org ／070-2831-6167(平日20時以降)
URL:https://culttz.city.kawasaki.jp/event/%e3%82%b0%e3%83%a9%e3%83%bc%e3%83%ab%e3%82%a6%e3%82%a4%e3%83%b3%e3%83%89%e3%82%aa%e3%83%bc%e3%82%b1%e3%82%b9%e3%83%88%e3%83%a9%e3%80%80%e3%82%a6%e3%82%a4%e3%83%b3%e3%82%bf%e3%83%bc%e3%82%b3%e3%83%b3-2/
LOCATION:ホール
CATEGORIES:ホール
END:VEVENT
BEGIN:VEVENT
DTSTART;VALUE=DATE:20211211
DTEND;VALUE=DATE:20211212
DTSTAMP:20260425T111202
CREATED:20211006T033531Z
LAST-MODIFIED:20211006T033545Z
UID:20760-1639180800-1639267199@culttz.city.kawasaki.jp
SUMMARY:明治学院大学愛好会吹奏楽部　第54回定期演奏会
DESCRIPTION:開場　17:30     開演18:00 \n＊入場無料＊
URL:https://culttz.city.kawasaki.jp/event/%e6%98%8e%e6%b2%bb%e5%ad%a6%e9%99%a2%e5%a4%a7%e5%ad%a6%e6%84%9b%e5%a5%bd%e4%bc%9a%e5%90%b9%e5%a5%8f%e6%a5%bd%e9%83%a8%e7%ac%ac54%e5%9b%9e%e5%ae%9a%e6%9c%9f%e6%bc%94%e5%a5%8f%e4%bc%9a/
LOCATION:ホール
CATEGORIES:ホール
END:VEVENT
BEGIN:VEVENT
DTSTART;VALUE=DATE:20211127
DTEND;VALUE=DATE:20211128
DTSTAMP:20260425T111202
CREATED:20210719T113620Z
LAST-MODIFIED:20211015T062720Z
UID:19720-1637971200-1638057599@culttz.city.kawasaki.jp
SUMMARY:神奈川フィルハーモニー管弦楽団　定期演奏会第373回
DESCRIPTION:開場/13:15　開演/14:00
URL:https://culttz.city.kawasaki.jp/event/%e7%a5%9e%e5%a5%88%e5%b7%9d%e3%83%95%e3%82%a3%e3%83%ab%e3%83%8f%e3%83%bc%e3%83%a2%e3%83%8b%e3%83%bc%e7%ae%a1%e5%bc%a6%e6%a5%bd%e5%9b%a3%e3%80%80%e5%ae%9a%e6%9c%9f%e6%bc%94%e5%a5%8f%e4%bc%9a%e7%ac%ac-2/
LOCATION:ホール
CATEGORIES:ホール
END:VEVENT
BEGIN:VEVENT
DTSTART;VALUE=DATE:20211125
DTEND;VALUE=DATE:20211126
DTSTAMP:20260425T111202
CREATED:20210903T014405Z
LAST-MODIFIED:20210903T014550Z
UID:20266-1637798400-1637884799@culttz.city.kawasaki.jp
SUMMARY:日本・ウルグアイ外交関係樹立１００周年記念　ルベン・ラダ
DESCRIPTION:ウルグアイ音楽界のレジェンド、初来日！ \n開場/14:00　開演/15:00 \n\n\nS席￥5\,200　A席￥4\,700  \n※カルッツかわさきでのチケット取扱いはございません。 \nお問い合わせ：MIN‐ONインフォメーションセンター　TEL 03-3226-9999 \n本公演は、新型コロナウイルス感染予防、および拡大防止の対策を講じて開催いたします。 \n最新の情報は、民音公式サイト（https://www.min-on.or.jp/）をご確認ください。
URL:https://culttz.city.kawasaki.jp/event/%e6%97%a5%e6%9c%ac%e3%83%bb%e3%82%a6%e3%83%ab%e3%82%b0%e3%82%a2%e3%82%a4%e5%a4%96%e4%ba%a4%e9%96%a2%e4%bf%82%e6%a8%b9%e7%ab%8b%ef%bc%91%ef%bc%90%ef%bc%90%e5%91%a8%e5%b9%b4%e8%a8%98%e5%bf%b5-%e3%83%ab/
LOCATION:ホール
CATEGORIES:ホール
END:VEVENT
BEGIN:VEVENT
DTSTART;VALUE=DATE:20211123
DTEND;VALUE=DATE:20211124
DTSTAMP:20260425T111202
CREATED:20210924T070019Z
LAST-MODIFIED:20211101T235051Z
UID:20537-1637625600-1637711999@culttz.city.kawasaki.jp
SUMMARY:CHILL CHILL BOX 7th 朗読劇「召喚IP！〜社畜とヴァンプ〜」
DESCRIPTION:昼の部14:30開演\n夜の部18:00開演\nロビー開場は開演1時間前　客席開場は40分前
URL:https://culttz.city.kawasaki.jp/event/chill-chill-box-7th-%e6%9c%97%e8%aa%ad%e5%8a%87%e3%80%8c%e5%8f%ac%e5%96%9aip%ef%bc%81%e3%80%9c%e7%a4%be%e7%95%9c%e3%81%a8%e3%83%b4%e3%82%a1%e3%83%b3%e3%83%97%e3%80%9c%e3%80%8d/
LOCATION:ホール
CATEGORIES:ホール
END:VEVENT
BEGIN:VEVENT
DTSTART;VALUE=DATE:20211120
DTEND;VALUE=DATE:20211121
DTSTAMP:20260425T111202
CREATED:20211015T062346Z
LAST-MODIFIED:20211015T062346Z
UID:20847-1637366400-1637452799@culttz.city.kawasaki.jp
SUMMARY:川崎吹奏楽団　第50回定期演奏会
DESCRIPTION:川崎吹奏楽団 結成50周年記念\n『挑戦そして未来へ』 \n開場/15:15　開演/16:00 \n問合せ：事務局　TEL045-873-6695 \n＜指揮＞田中　旭(当団常任指揮者) \n＜曲目＞\n【第1部】\n英雄は我が傍らに　　　　　　J.スウェアリンジェン／作曲\nヴィヴァ・ムジカ！　　　　　A.リード／作曲\nムーアサイド組曲　　　　　　G.ホルスト／作曲　D.ライト／編曲\nカレイドスコープ　　　　　　P.スパーク／作曲 \n【第2部】\nドラえもん　　　　　　　　　星野源／作曲　本澤なおゆき／編曲\n坂本九コレクション　　　　　いずみたく・中村八大／作曲　金山徹／編曲\nアクアリウム（水族館）　　　J.デ=メイ／作曲\nツェッペリン伯爵行進曲　　　C.タイケ／作曲　三戸知章／編曲 \n【フィナーレ】\nアルプスの詩　　　　　　　　F.チェザリーニ／作曲
URL:https://culttz.city.kawasaki.jp/event/%e5%b7%9d%e5%b4%8e%e5%90%b9%e5%a5%8f%e6%a5%bd%e5%9b%a3%e3%80%80%e7%ac%ac50%e5%9b%9e%e5%ae%9a%e6%9c%9f%e6%bc%94%e5%a5%8f%e4%bc%9a/
LOCATION:ホール
CATEGORIES:ホール
END:VEVENT
BEGIN:VEVENT
DTSTART;VALUE=DATE:20211117
DTEND;VALUE=DATE:20211118
DTSTAMP:20260425T111202
CREATED:20210924T074639Z
LAST-MODIFIED:20211102T043035Z
UID:20540-1637107200-1637193599@culttz.city.kawasaki.jp
SUMMARY:よしもとお笑いライブ～深まる秋の笑い日和！～in川崎2021
DESCRIPTION:開場/17:30　開演/18:30
URL:https://culttz.city.kawasaki.jp/event/%e3%82%88%e3%81%97%e3%82%82%e3%81%a8%e3%81%8a%e7%ac%91%e3%81%84%e3%83%a9%e3%82%a4%e3%83%96%ef%bd%9e%e6%b7%b1%e3%81%be%e3%82%8b%e7%a7%8b%e3%81%ae%e7%ac%91%e3%81%84%e6%97%a5%e5%92%8c%ef%bc%81%ef%bd%9ein/
LOCATION:ホール
CATEGORIES:ホール
END:VEVENT
BEGIN:VEVENT
DTSTART;VALUE=DATE:20211111
DTEND;VALUE=DATE:20211112
DTSTAMP:20260425T111202
CREATED:20210807T083836Z
LAST-MODIFIED:20210924T064436Z
UID:20012-1636588800-1636675199@culttz.city.kawasaki.jp
SUMMARY:UNISON SQUARE GARDEN TOUR 2021-2022「Patrick Vegee」
DESCRIPTION:開場/17:30　開演/18:30 \n全席指定￥5900 \n【問い合わせ】 VINTAGE ROCK std.　 \nTEL 03-3770-6900（平日12:00～17:00） https://www.vintage-rock.com/ \n※カルッツかわさきでのチケット取扱いはございません。
URL:https://culttz.city.kawasaki.jp/event/%e9%96%a2%e4%bf%82%e8%80%85%e3%81%ae%e3%81%bf%e3%81%ae%e5%88%a9%e7%94%a8%e3%81%8c%e3%81%94%e3%81%96%e3%81%84%e3%81%be%e3%81%99-443/
LOCATION:ホール
CATEGORIES:ホール
END:VEVENT
END:VCALENDAR